BEGIN:VCALENDAR
VERSION:2.0
PRODID:-//ChamberMaster//Event Calendar 2.0//EN
METHOD:PUBLISH
X-PUBLISHED-TTL:P3D
REFRESH-INTERVAL:P3D
CALSCALE:GREGORIAN
BEGIN:VEVENT
DTSTART:20250626T170000Z
DTEND:20250626T180000Z
X-MICROSOFT-CDO-ALLDAYEVENT:FALSE
SUMMARY:Seminario Escala tu Negocio en el RGV
DESCRIPTION:Atenci n pintores y contratistas del RGV\, estamos regalando boletos GRATIS para aquellos que quieran inscribirse a nuestro seminario de desarrollo empresarial para pintores\, constructores y contratistas! RSVP: fesquivel@freshcoatpainters.com
X-ALT-DESC;FMTTYPE=text/html:Atenci&oacute\;n pintores y contratistas del RGV\, estamos regalando boletos GRATIS para aquellos que quieran inscribirse a nuestro seminario de desarrollo empresarial para pintores\, constructores y contratistas! RSVP: fesquivel@freshcoatpainters.com
LOCATION:1200 Ash Ave\, McAllen\, TX 78501
UID:e.3411.994
SEQUENCE:3
DTSTAMP:20260422T144101Z
URL:https://members.rgvhcc.org/events/details/seminario-escala-tu-negocio-en-el-rgv-994
END:VEVENT

END:VCALENDAR
