BEGIN:VCALENDAR
VERSION:2.0
PRODID:-//ChamberMaster//Event Calendar 2.0//EN
METHOD:PUBLISH
X-PUBLISHED-TTL:P3D
REFRESH-INTERVAL:P3D
CALSCALE:GREGORIAN
BEGIN:VEVENT
DTSTART:20241114T160000Z
DTEND:20241114T173000Z
X-MICROSOFT-CDO-ALLDAYEVENT:FALSE
SUMMARY:Service-Disabled Veteran-Owned Small Business SBA Certification
DESCRIPTION:The federal government aims to award at least 3% of all federal contracting dollars to SDVOSBs each year.\n\nCompetition is limited for certain federal contract opportunities to businesses that participate in the SDVOSB program.\n\nJoining the SDVOSB program makes your business eligible to compete for the program's set-aside and sole source contracts.\n\nSDVOSBs may self-certify their status through 2023 to compete for set-aside contracts at most federal agencies. However\, VA does not recognize SDVOSB self-certification. Self-certified SDVOSBs must apply for SBA certification by the January 1\, 2024 to be able to compete for set-aside contracts with the federal government.
X-ALT-DESC;FMTTYPE=text/html:<p style="box-sizing: inherit\; line-height: 1.5\; max-width: none\; color: rgb(27\, 27\, 27)\; font-family: &quot\;Source Sans Pro Web&quot\;\, &quot\;Helvetica Neue&quot\;\, Helvetica\, Roboto\, Arial\, sans-serif\; font-size: 18.08px\; background-color: rgb(255\, 255\, 255)\;">The federal government aims&nbsp\;to award at least 3% of all federal contracting dollars to SDVOSBs each year.</p>\n\n<p style="box-sizing: inherit\; margin-top: 1em\; margin-bottom: 0px\; line-height: 1.5\; max-width: none\; color: rgb(27\, 27\, 27)\; font-family: &quot\;Source Sans Pro Web&quot\;\, &quot\;Helvetica Neue&quot\;\, Helvetica\, Roboto\, Arial\, sans-serif\; font-size: 18.08px\; background-color: rgb(255\, 255\, 255)\;">Competition is limited for certain federal contract opportunities to businesses that participate in the SDVOSB program.</p>\n\n<p style="box-sizing: inherit\; margin-top: 1em\; margin-bottom: 0px\; line-height: 1.5\; max-width: none\; color: rgb(27\, 27\, 27)\; font-family: &quot\;Source Sans Pro Web&quot\;\, &quot\;Helvetica Neue&quot\;\, Helvetica\, Roboto\, Arial\, sans-serif\; font-size: 18.08px\; background-color: rgb(255\, 255\, 255)\;">Joining the SDVOSB program makes your business eligible to compete for the program&rsquo\;s&nbsp\;<a href="http://www.sba.gov/federal-contracting/contracting-guide/types-contracts" style="box-sizing: inherit\; background-color: transparent\; color: rgb(0\, 81\, 139)\;">set-aside and sole source contracts</a>.</p>\n\n<p style="box-sizing: inherit\; margin-top: 1em\; margin-bottom: 0px\; line-height: 1.5\; max-width: none\; color: rgb(27\, 27\, 27)\; font-family: &quot\;Source Sans Pro Web&quot\;\, &quot\;Helvetica Neue&quot\;\, Helvetica\, Roboto\, Arial\, sans-serif\; font-size: 18.08px\; background-color: rgb(255\, 255\, 255)\;">SDVOSBs may self-certify their status through 2023 to compete for set-aside contracts at most federal agencies. However\, VA does not recognize SDVOSB self-certification.&nbsp\;Self-certified SDVOSBs must apply for SBA certification by the January 1\, 2024 to be able to compete for set-aside contracts with the federal government.</p>\n
LOCATION:Join Zoom Meeting https://us06web.zoom.us/j/89552494979?pwd=zvGDguJABW78J3ccNbAsoOJnGkWEQl.1 Meeting ID: 895 5249 4979
UID:e.3411.849
SEQUENCE:3
DTSTAMP:20260423T085110Z
URL:https://members.rgvhcc.org/events/details/service-disabled-veteran-owned-small-business-sba-certification-849
END:VEVENT

END:VCALENDAR
