BEGIN:VCALENDAR
VERSION:2.0
PRODID:-//ChamberMaster//Event Calendar 2.0//EN
METHOD:PUBLISH
X-PUBLISHED-TTL:P3D
REFRESH-INTERVAL:P3D
CALSCALE:GREGORIAN
BEGIN:VEVENT
DTSTART:20251011T190000Z
DTEND:20251011T220000Z
X-MICROSOFT-CDO-ALLDAYEVENT:FALSE
SUMMARY:Sip & Scent Fiesta
DESCRIPTION:? Sip & Scent Fiesta ? Get ready for an unforgettable evening where fragrance meets fun! At the Sip & Scent Fiesta\, guests can sip (Fiesta Style)\, mingle\, and explore a curated collection of luxurious designer-inspired perfumes in a lively\, fiesta-inspired atmosphere. From everyday elegance to bold statement scents\, this experience is all about finding your perfect fragrance match while enjoying great company. ?? What to Expect   A guided scent experience with access to top-tier perfumes and exclusive blends   A chance to sip on refreshing aguas frescas while discovering your new signature fragrance   Fun\, interactive activities and giveaways throughout the event   The opportunity to shop your favorite finds and take home luxe-inspired scents with your exclusive event-only discounts and giveaways. ?Whether you're a fragrance lover\, a social butterfly\, or simply looking for a unique night out\, the Sip & Scent Fiesta is your invitation to indulge in a little luxury with a lot of flair.?
X-ALT-DESC;FMTTYPE=text/html:? Sip &amp\; Scent Fiesta ? Get ready for an unforgettable evening where fragrance meets fun! At the Sip &amp\; Scent Fiesta\, guests can sip (Fiesta Style)\, mingle\, and explore a curated collection of luxurious designer-inspired perfumes in a lively\, fiesta-inspired atmosphere. From everyday elegance to bold statement scents\, this experience is all about finding your perfect fragrance match while enjoying great company. ?? What to Expect &bull\; A guided scent experience with access to top-tier perfumes and exclusive blends &bull\; A chance to sip on refreshing aguas frescas while discovering your new signature fragrance &bull\; Fun\, interactive activities and giveaways throughout the event &bull\; The opportunity to shop your favorite finds and take home luxe-inspired scents with your exclusive event-only discounts and giveaways. ?Whether you&rsquo\;re a fragrance lover\, a social butterfly\, or simply looking for a unique night out\, the Sip &amp\; Scent Fiesta is your invitation to indulge in a little luxury with a lot of flair.?
LOCATION:Selfies and More Market 5429 N 23rd\, Unit E McAllen\, TX 78504
UID:e.3411.1051
SEQUENCE:3
DTSTAMP:20260422T081254Z
URL:https://members.rgvhcc.org/events/details/sip-scent-fiesta-1051
END:VEVENT

END:VCALENDAR
