BEGIN:VCALENDAR
VERSION:2.0
PRODID:-//ChamberMaster//Event Calendar 2.0//EN
METHOD:PUBLISH
X-PUBLISHED-TTL:P3D
REFRESH-INTERVAL:P3D
CALSCALE:GREGORIAN
BEGIN:VEVENT
DTSTART:20240109T173000Z
DTEND:20240109T173000Z
X-MICROSOFT-CDO-ALLDAYEVENT:FALSE
SUMMARY:Small Business Academy - Graduation
DESCRIPTION:Let's Celebrate our Grads! \n\n \n\n	Bertha Z. Garcia\n	Corina Lopez\n	David Stohl \n	Irma Burr\n	Kari Woodin
X-ALT-DESC;FMTTYPE=text/html:<font color="#374151" face="Söhne\, ui-sans-serif\, system-ui\, -apple-system\, Segoe UI\, Roboto\, Ubuntu\, Cantarell\, Noto Sans\, sans-serif\, Helvetica Neue\, Arial\, Apple Color Emoji\, Segoe UI Emoji\, Segoe UI Symbol\, Noto Color Emoji"><span style="font-size: 22px\; white-space-collapse: preserve\; background-color: rgb(247\, 247\, 248)\;">Let&#39\;s Celebrate our Grads! </span></font><br />\n&nbsp\;\n<ul>\n	<li><span style="color:#FF0000\;"><strong><font face="Söhne\, ui-sans-serif\, system-ui\, -apple-system\, Segoe UI\, Roboto\, Ubuntu\, Cantarell\, Noto Sans\, sans-serif\, Helvetica Neue\, Arial\, Apple Color Emoji\, Segoe UI Emoji\, Segoe UI Symbol\, Noto Color Emoji"><span style="font-size: 22px\; white-space-collapse: preserve\; background-color: rgb(247\, 247\, 248)\;"><span style="font-size:16px\;">Bertha Z. Garcia</span></span></font></strong></span></li>\n	<li><span style="color:#FF0000\;"><strong><font face="Söhne\, ui-sans-serif\, system-ui\, -apple-system\, Segoe UI\, Roboto\, Ubuntu\, Cantarell\, Noto Sans\, sans-serif\, Helvetica Neue\, Arial\, Apple Color Emoji\, Segoe UI Emoji\, Segoe UI Symbol\, Noto Color Emoji"><span style="font-size: 22px\; white-space-collapse: preserve\; background-color: rgb(247\, 247\, 248)\;"><span style="font-size:16px\;">Corina Lopez</span></span></font></strong></span></li>\n	<li><span style="color: rgb(255\, 0\, 0)\;"><strong><font face="Söhne\, ui-sans-serif\, system-ui\, -apple-system\, Segoe UI\, Roboto\, Ubuntu\, Cantarell\, Noto Sans\, sans-serif\, Helvetica Neue\, Arial\, Apple Color Emoji\, Segoe UI Emoji\, Segoe UI Symbol\, Noto Color Emoji"><span style="font-size: 22px\; white-space-collapse: preserve\; background-color: rgb(247\, 247\, 248)\;"><span style="font-size: 16px\;">David Stohl </span></span></font></strong></span></li>\n	<li><span style="color: rgb(255\, 0\, 0)\;"><strong><font face="Söhne\, ui-sans-serif\, system-ui\, -apple-system\, Segoe UI\, Roboto\, Ubuntu\, Cantarell\, Noto Sans\, sans-serif\, Helvetica Neue\, Arial\, Apple Color Emoji\, Segoe UI Emoji\, Segoe UI Symbol\, Noto Color Emoji"><span style="font-size: 22px\; white-space-collapse: preserve\; background-color: rgb(247\, 247\, 248)\;"><span style="font-size: 16px\;">Irma Burr</span></span></font></strong></span></li>\n	<li><span style="color:#FF0000\;"><strong><font face="Söhne\, ui-sans-serif\, system-ui\, -apple-system\, Segoe UI\, Roboto\, Ubuntu\, Cantarell\, Noto Sans\, sans-serif\, Helvetica Neue\, Arial\, Apple Color Emoji\, Segoe UI Emoji\, Segoe UI Symbol\, Noto Color Emoji"><span style="font-size: 22px\; white-space-collapse: preserve\; background-color: rgb(247\, 247\, 248)\;"><span style="font-size:16px\;">Kari Woodin</span></span></font></strong></span></li>\n</ul>\n
LOCATION:Casa De Palmas Hotel
UID:e.3411.698
SEQUENCE:3
DTSTAMP:20260424T105041Z
URL:https://members.rgvhcc.org/events/details/small-business-academy-graduation-698
END:VEVENT

END:VCALENDAR
