BEGIN:VCALENDAR
VERSION:2.0
PRODID:-//ChamberMaster//Event Calendar 2.0//EN
METHOD:PUBLISH
X-PUBLISHED-TTL:P3D
REFRESH-INTERVAL:P3D
CALSCALE:GREGORIAN
BEGIN:VEVENT
DTSTART:20251209T173000Z
DTEND:20251209T190000Z
X-MICROSOFT-CDO-ALLDAYEVENT:FALSE
SUMMARY:Small Business Academy S2 - Culture That Clicks: Team Development & Loyalty Building
DESCRIPTION:Session 2: Culture That Clicks: Team Development & Loyalty Building\n\nDescription: A thriving team culture drives innovation\, retention\, and performance. Discover how to hire smart\, foster collaboration\, and build a workplace people love. Key Takeaways:\n\n\n	Create a values-driven team culture\n	Develop onboarding and training that sticks\n	Boost morale and engagement with simple rituals\n	Handle conflict and feedback with confidence
X-ALT-DESC;FMTTYPE=text/html:<p style="margin-top: 0px\; margin-bottom: 0px\; color: rgb(80\, 0\, 80)\; font-family: Arial\, Helvetica\, sans-serif\; font-size: small\;"><strong><span style="font-size:13.5pt\;">Session 2: Culture That Clicks: Team Development &amp\; Loyalty Building</span></strong><br />\n<strong>Description:</strong>&nbsp\;A thriving team culture drives innovation\, retention\, and performance. Discover how to hire smart\, foster collaboration\, and build a workplace people love.&nbsp\;<strong>Key Takeaways:</strong></p>\n\n<ul>\n	<li style="margin:0px 0px 0px 15px\;">Create a values-driven team culture</li>\n	<li style="margin:0px 0px 0px 15px\;">Develop onboarding and training that sticks</li>\n	<li style="margin:0px 0px 0px 15px\;">Boost morale and engagement with simple rituals</li>\n	<li style="margin:0px 0px 0px 15px\;">Handle conflict and feedback with confidence</li>\n</ul>\n
LOCATION:
UID:e.3411.1064
SEQUENCE:3
DTSTAMP:20260422T050219Z
URL:https://members.rgvhcc.org/events/details/small-business-academy-s2-culture-that-clicks-team-development-loyalty-building-1064
END:VEVENT

END:VCALENDAR
