BEGIN:VCALENDAR
VERSION:2.0
PRODID:-//ChamberMaster//Event Calendar 2.0//EN
METHOD:PUBLISH
X-PUBLISHED-TTL:P3D
REFRESH-INTERVAL:P3D
CALSCALE:GREGORIAN
BEGIN:VEVENT
DTSTART:20260210T180000Z
DTEND:20260210T193000Z
X-MICROSOFT-CDO-ALLDAYEVENT:FALSE
SUMMARY:Small Business Academy S4 - Brand Like a Boss: Marketing & Identity That Sticks
DESCRIPTION:Session 4: Brand Like a Boss: Marketing & Identity That Sticks - Fatima Rodriguez\, Marketing Director at Olive Marketing Firm\n\n\n\nDescription: Your brand is your business's heartbeat. In this session\, you'll learn how to craft a memorable brand identity\, clarify your message\, and build marketing strategies that actually convert. Presented by Fatima Rodriguez\, Marketing Director at Olive Marketing Firm.  Key Takeaways:\n\n\n	Define your brand voice and visual identity\n	Identify your ideal customer and value proposition\n	Build a marketing funnel that converts\n	Align branding with customer experience
X-ALT-DESC;FMTTYPE=text/html:<p style="margin-top: 0px\; margin-bottom: 0px\; color: rgb(80\, 0\, 80)\; font-family: Arial\, Helvetica\, sans-serif\; font-size: small\;"><span style="font-family:arial\;"><strong><span style="font-size:13.5pt\;">Session 4: Brand Like a Boss: Marketing &amp\; Identity That Sticks - </span></strong></span><strong><span style="font-size:18px\;">Fatima Rodriguez\, Marketing Director at Olive Marketing Firm</span></strong><br />\n<br />\n<span style="font-family:arial\;"><strong>Description:</strong>&nbsp\;</span>Your brand is your business&rsquo\;s heartbeat. In this session\, you&rsquo\;ll learn how to craft a memorable brand identity\, clarify your message\, and build marketing strategies that actually convert. Presented by Fatima Rodriguez\, Marketing Director at Olive Marketing Firm.&nbsp\;<span style="font-family:arial\;">&nbsp\;<strong>Key Takeaways:</strong></span></p>\n\n<ul>\n	<li style="margin:0px 0px 0px 15px\;"><span style="font-family:arial\;">Define your brand voice and visual identity</span></li>\n	<li style="margin:0px 0px 0px 15px\;"><span style="font-family:arial\;">Identify your ideal customer and value proposition</span></li>\n	<li style="margin:0px 0px 0px 15px\;"><span style="font-family:arial\;">Build a marketing funnel that converts</span></li>\n	<li style="margin:0px 0px 0px 15px\;"><span style="font-family:arial\;">Align branding with customer experience</span></li>\n</ul>\n
LOCATION:
UID:e.3411.1066
SEQUENCE:3
DTSTAMP:20260422T012514Z
URL:https://members.rgvhcc.org/events/details/small-business-academy-s4-brand-like-a-boss-marketing-identity-that-sticks-1066
END:VEVENT

END:VCALENDAR
