BEGIN:VCALENDAR
VERSION:2.0
PRODID:-//ChamberMaster//Event Calendar 2.0//EN
METHOD:PUBLISH
X-PUBLISHED-TTL:P3D
REFRESH-INTERVAL:P3D
CALSCALE:GREGORIAN
BEGIN:VEVENT
DTSTART:20250523T170000Z
DTEND:20250523T180000Z
X-MICROSOFT-CDO-ALLDAYEVENT:FALSE
SUMMARY:Small Business Class (Brownsville)
DESCRIPTION:Susie Neaville JPM Chase Community Manager\n	Frank Foreman JPM Chase Small Business Manager
X-ALT-DESC;FMTTYPE=text/html:<ol style="list-style-type:lower-alpha\;">\n	<li style="margin:0px 0px 0px 1in\;">Susie Neaville JPM Chase Community Manager</li>\n	<li style="margin:0px 0px 0px 1in\;">Frank Foreman JPM Chase Small Business Manager</li>\n</ol>\n
LOCATION:
UID:e.3411.903
SEQUENCE:3
DTSTAMP:20260422T175825Z
URL:https://members.rgvhcc.org/events/details/small-business-class-brownsville-903
END:VEVENT

END:VCALENDAR
