BEGIN:VCALENDAR
VERSION:2.0
PRODID:-//ChamberMaster//Event Calendar 2.0//EN
METHOD:PUBLISH
X-PUBLISHED-TTL:P3D
REFRESH-INTERVAL:P3D
CALSCALE:GREGORIAN
BEGIN:VEVENT
DTSTART:20250516T170000Z
DTEND:20250516T180000Z
X-MICROSOFT-CDO-ALLDAYEVENT:FALSE
SUMMARY:Small Business Class (McAllen)
DESCRIPTION:Susie Neaville JPM Chase Community Manager\n	Frank Foreman JPM Chase Sr
X-ALT-DESC;FMTTYPE=text/html:<ol style="list-style-type:lower-alpha\;">\n	<li style="margin:0px 0px 0px 1in\;">Susie Neaville JPM Chase Community Manager</li>\n	<li style="margin:0px 0px 0px 1in\;">Frank Foreman JPM Chase Sr</li>\n</ol>\n
LOCATION:
UID:e.3411.902
SEQUENCE:3
DTSTAMP:20260422T161124Z
URL:https://members.rgvhcc.org/events/details/small-business-class-mcallen-902
END:VEVENT

END:VCALENDAR
