BEGIN:VCALENDAR
VERSION:2.0
PRODID:-//ChamberMaster//Event Calendar 2.0//EN
METHOD:PUBLISH
X-PUBLISHED-TTL:P3D
REFRESH-INTERVAL:P3D
CALSCALE:GREGORIAN
BEGIN:VEVENT
DTSTART:20250314T170000Z
DTEND:20250314T180000Z
X-MICROSOFT-CDO-ALLDAYEVENT:FALSE
SUMMARY:Small Business for Women Entrepreneurs (McAllen)
DESCRIPTION:Susie Neaville JPM Chase Community Manager\n	Leslie Gonzalez JPM Chase Small Business Relationship Manager
X-ALT-DESC;FMTTYPE=text/html:<ul>\n	<li style="margin:0px 0px 0px 1in\;">Susie Neaville JPM Chase Community Manager</li>\n	<li style="margin:0px 0px 0px 1in\;">Leslie Gonzalez JPM Chase Small Business Relationship Manager</li>\n</ul>\n
LOCATION:
UID:e.3411.901
SEQUENCE:3
DTSTAMP:20260422T194900Z
URL:https://members.rgvhcc.org/events/details/small-business-for-women-entrepreneurs-mcallen-901
END:VEVENT

END:VCALENDAR
