BEGIN:VCALENDAR
VERSION:2.0
PRODID:-//ChamberMaster//Event Calendar 2.0//EN
METHOD:PUBLISH
X-PUBLISHED-TTL:P3D
REFRESH-INTERVAL:P3D
CALSCALE:GREGORIAN
BEGIN:VEVENT
DTSTART:20250607T140000Z
DTEND:20250607T160000Z
X-MICROSOFT-CDO-ALLDAYEVENT:FALSE
SUMMARY:SOUTH TEXAS HEALTH SYSTEM® CHILDREN’S Safe Summer Expo
DESCRIPTION:STHS Children's and participating law enforcement agencies and safety organizations is inviting all families to get ready for a safe summer at our first-ever Safe Summer Expo   a can't-miss event for the whole family! The free\, fun-packed event will include:   Arts & crafts   Community resources   Health & wellness activities   Family-friendly activities   Emergency preparedness   Games   & more! For more information\, please call STHS Marketing at 956-388-2020 or email STHSMarketing@uhsinc.com
X-ALT-DESC;FMTTYPE=text/html:STHS Children&rsquo\;s and participating law enforcement agencies and safety organizations is inviting all families to get ready for a safe summer at our first-ever Safe Summer Expo &ndash\; a can&rsquo\;t-miss event for the whole family! The free\, fun-packed event will include: &bull\; Arts &amp\; crafts &bull\; Community resources &bull\; Health &amp\; wellness activities &bull\; Family-friendly activities &bull\; Emergency preparedness &bull\; Games &bull\; &amp\; more! For more information\, please call STHS Marketing at 956-388-2020 or email STHSMarketing@uhsinc.com
LOCATION:1102 W. Trenton Rd. Edinburg\, TX 78539
UID:e.3411.976
SEQUENCE:3
DTSTAMP:20260422T161848Z
URL:https://members.rgvhcc.org/events/details/south-texas-health-system-children-s-safe-summer-expo-976
END:VEVENT

END:VCALENDAR
