BEGIN:VCALENDAR
VERSION:2.0
PRODID:-//ChamberMaster//Event Calendar 2.0//EN
METHOD:PUBLISH
X-PUBLISHED-TTL:P3D
REFRESH-INTERVAL:P3D
CALSCALE:GREGORIAN
BEGIN:VEVENT
DTSTART:20230803T140000Z
DTEND:20230803T190000Z
X-MICROSOFT-CDO-ALLDAYEVENT:FALSE
SUMMARY:South Texas Senior Summit - Cameron County
DESCRIPTION:JOIN US FOR THIS FREE EVENT FOR SENIORS (60+)\n\n \n\nWelcome to our Annual Senior Summit\, this time we are heading to Cameron County!\n\nJoin us for FREE Education Seminars for Health\, Medicare\, Medicaid\, Fraud & Abuse!\n\n\n	FREE Wellness Exams  for Face\, Ears\, Eyes\, Nose\, Throat\, Heart & Lungs\n	FREE Health Screenings for Glucose\, Blood Pressure\, Eye\, Feet\, Veins\, Dental & Bone Density\n	FREE Activities like Zumba\, Gold Massages\, Nail Polishing & Dancing!\n\n\nLunch & Snacks will be provided!
X-ALT-DESC;FMTTYPE=text/html:<div class="kvgmc6g5 cxmmr5t8 oygrvhab hcukyx3x c1et5uql" style="overflow-wrap: break-word\; margin: 0px\; font-family: system-ui\, -apple-system\, &quot\;system-ui&quot\;\, &quot\;.SFNSText-Regular&quot\;\, sans-serif\; color: rgb(5\, 5\, 5)\; font-size: 15px\;">JOIN US FOR THIS FREE EVENT FOR SENIORS (60+)<br />\n&nbsp\;</div>\n\n<div class="cxmmr5t8 oygrvhab hcukyx3x c1et5uql o9v6fnle" style="overflow-wrap: break-word\; margin: 0.5em 0px 0px\; font-family: system-ui\, -apple-system\, &quot\;system-ui&quot\;\, &quot\;.SFNSText-Regular&quot\;\, sans-serif\; color: rgb(5\, 5\, 5)\; font-size: 15px\;">Welcome to our Annual Senior Summit\, this time we are heading to Cameron County!</div>\n\n<div class="cxmmr5t8 oygrvhab hcukyx3x c1et5uql o9v6fnle" style="overflow-wrap: break-word\; margin: 0.5em 0px 0px\; font-family: system-ui\, -apple-system\, &quot\;system-ui&quot\;\, &quot\;.SFNSText-Regular&quot\;\, sans-serif\; color: rgb(5\, 5\, 5)\; font-size: 15px\;">Join us for <span style="color:#FF0000\;"><u><strong>FREE</strong></u></span> Education Seminars for Health\, Medicare\, Medicaid\, Fraud &amp\; Abuse!</div>\n\n<ul>\n	<li class="cxmmr5t8 oygrvhab hcukyx3x c1et5uql o9v6fnle" style="overflow-wrap: break-word\; margin: 0.5em 0px 0px\; font-family: system-ui\, -apple-system\, &quot\;system-ui&quot\;\, &quot\;.SFNSText-Regular&quot\;\, sans-serif\; color: rgb(5\, 5\, 5)\; font-size: 15px\;"><span style="color:#B22222\;"><u><strong>FREE</strong></u></span> Wellness Exams&nbsp\; for Face\, Ears\, Eyes\, Nose\, Throat\, Heart &amp\; Lungs</li>\n	<li class="cxmmr5t8 oygrvhab hcukyx3x c1et5uql o9v6fnle" style="overflow-wrap: break-word\; margin: 0.5em 0px 0px\; font-family: system-ui\, -apple-system\, &quot\;system-ui&quot\;\, &quot\;.SFNSText-Regular&quot\;\, sans-serif\; color: rgb(5\, 5\, 5)\; font-size: 15px\;"><span style="color:#FF0000\;"><u><strong>FREE</strong></u></span> Health Screenings for Glucose\, Blood Pressure\, Eye\, Feet\, Veins\, Dental &amp\; Bone Density</li>\n	<li class="cxmmr5t8 oygrvhab hcukyx3x c1et5uql o9v6fnle" style="overflow-wrap: break-word\; margin: 0.5em 0px 0px\; font-family: system-ui\, -apple-system\, &quot\;system-ui&quot\;\, &quot\;.SFNSText-Regular&quot\;\, sans-serif\; color: rgb(5\, 5\, 5)\; font-size: 15px\;"><span style="color:#FF0000\;"><u><strong>FREE</strong></u></span> Activities like Zumba\, Gold Massages\, Nail Polishing &amp\; Dancing!</li>\n</ul>\n\n<div class="cxmmr5t8 oygrvhab hcukyx3x c1et5uql o9v6fnle" style="overflow-wrap: break-word\; margin: 0.5em 0px 0px\; font-family: system-ui\, -apple-system\, &quot\;system-ui&quot\;\, &quot\;.SFNSText-Regular&quot\;\, sans-serif\; color: rgb(5\, 5\, 5)\; font-size: 15px\;">Lunch &amp\; Snacks will be provided!</div>\n
LOCATION:Harlingen Convention Center Main Ballroom
UID:e.3411.350
SEQUENCE:3
DTSTAMP:20260424T163344Z
URL:https://members.rgvhcc.org/events/details/south-texas-senior-summit-cameron-county-350
END:VEVENT

END:VCALENDAR
