BEGIN:VCALENDAR
VERSION:2.0
PRODID:-//ChamberMaster//Event Calendar 2.0//EN
METHOD:PUBLISH
X-PUBLISHED-TTL:P3D
REFRESH-INTERVAL:P3D
CALSCALE:GREGORIAN
BEGIN:VEVENT
DTSTART;VALUE=DATE:20230622
DTEND;VALUE=DATE:20230623
TRANSP:TRANSPARENT
X-MICROSOFT-CDO-ALLDAYEVENT:TRUE
SUMMARY:South Texas Senior Summit - Hidalgo County 23
DESCRIPTION:JOIN US FOR THIS FREE EVENT FOR SENIORS (60+)\n\nWelcome to our Annual Senior Summit\, this time we are heading to Hidalgo County!\n\nJoin us for FREE Education Seminars for Health\, Medicare\, Medicaid\, Fraud & Abuse!\n\nFREE Wellness Exams by the UTRGV Medical School for Face\, Ears\, Eyes\, Nose\, Throat\, Heart & Lungs\n\nFREE Health Screenings for Glucose\, Blood Pressure\, Eye\, Feet\, Veins\, Dental & Bone Density\n\nFREE Activities like Zumba\, Gold Massages\, Nail Polishing & Dancing!\n\nLunch & Snacks will be provided!
X-ALT-DESC;FMTTYPE=text/html:<div class="kvgmc6g5 cxmmr5t8 oygrvhab hcukyx3x c1et5uql" style="overflow-wrap: break-word\; margin: 0px\; font-family: system-ui\, -apple-system\, &quot\;system-ui&quot\;\, &quot\;.SFNSText-Regular&quot\;\, sans-serif\; color: rgb(5\, 5\, 5)\; font-size: 15px\;">JOIN US FOR THIS FREE EVENT FOR SENIORS (60+)</div>\n\n<div class="cxmmr5t8 oygrvhab hcukyx3x c1et5uql o9v6fnle" style="overflow-wrap: break-word\; margin: 0.5em 0px 0px\; font-family: system-ui\, -apple-system\, &quot\;system-ui&quot\;\, &quot\;.SFNSText-Regular&quot\;\, sans-serif\; color: rgb(5\, 5\, 5)\; font-size: 15px\;">Welcome to our Annual Senior Summit\, this time we are heading to Hidalgo County!</div>\n\n<div class="cxmmr5t8 oygrvhab hcukyx3x c1et5uql o9v6fnle" style="overflow-wrap: break-word\; margin: 0.5em 0px 0px\; font-family: system-ui\, -apple-system\, &quot\;system-ui&quot\;\, &quot\;.SFNSText-Regular&quot\;\, sans-serif\; color: rgb(5\, 5\, 5)\; font-size: 15px\;">Join us for FREE Education Seminars for Health\, Medicare\, Medicaid\, Fraud &amp\; Abuse!</div>\n\n<div class="cxmmr5t8 oygrvhab hcukyx3x c1et5uql o9v6fnle" style="overflow-wrap: break-word\; margin: 0.5em 0px 0px\; font-family: system-ui\, -apple-system\, &quot\;system-ui&quot\;\, &quot\;.SFNSText-Regular&quot\;\, sans-serif\; color: rgb(5\, 5\, 5)\; font-size: 15px\;">FREE Wellness Exams by the UTRGV Medical School for Face\, Ears\, Eyes\, Nose\, Throat\, Heart &amp\; Lungs</div>\n\n<div class="cxmmr5t8 oygrvhab hcukyx3x c1et5uql o9v6fnle" style="overflow-wrap: break-word\; margin: 0.5em 0px 0px\; font-family: system-ui\, -apple-system\, &quot\;system-ui&quot\;\, &quot\;.SFNSText-Regular&quot\;\, sans-serif\; color: rgb(5\, 5\, 5)\; font-size: 15px\;">FREE Health Screenings for Glucose\, Blood Pressure\, Eye\, Feet\, Veins\, Dental &amp\; Bone Density</div>\n\n<div class="cxmmr5t8 oygrvhab hcukyx3x c1et5uql o9v6fnle" style="overflow-wrap: break-word\; margin: 0.5em 0px 0px\; font-family: system-ui\, -apple-system\, &quot\;system-ui&quot\;\, &quot\;.SFNSText-Regular&quot\;\, sans-serif\; color: rgb(5\, 5\, 5)\; font-size: 15px\;">FREE Activities like Zumba\, Gold Massages\, Nail Polishing &amp\; Dancing!</div>\n\n<div class="cxmmr5t8 oygrvhab hcukyx3x c1et5uql o9v6fnle" style="overflow-wrap: break-word\; margin: 0.5em 0px 0px\; font-family: system-ui\, -apple-system\, &quot\;system-ui&quot\;\, &quot\;.SFNSText-Regular&quot\;\, sans-serif\; color: rgb(5\, 5\, 5)\; font-size: 15px\;">Lunch &amp\; Snacks will be provided!</div>\n
LOCATION:Hacienda San Juan 522 S. Iowa San Juan\, Texas 78589
UID:e.3411.496
SEQUENCE:3
DTSTAMP:20260424T200339Z
URL:https://members.rgvhcc.org/events/details/south-texas-senior-summit-hidalgo-county-23-496
END:VEVENT

END:VCALENDAR
