BEGIN:VCALENDAR
VERSION:2.0
PRODID:-//ChamberMaster//Event Calendar 2.0//EN
METHOD:PUBLISH
X-PUBLISHED-TTL:P3D
REFRESH-INTERVAL:P3D
CALSCALE:GREGORIAN
BEGIN:VEVENT
DTSTART:20250802T140000Z
DTEND:20250802T160000Z
X-MICROSOFT-CDO-ALLDAYEVENT:FALSE
SUMMARY:STHS' BACK-TO- SCHOOL Block Party
DESCRIPTION:Come get school-ready with South Texas Health System  Children's at our fun-packed celebration that will include:\n\n\n\n  Free school supplies (while supplies last)\n\n  Complimentary snacks\n\n  Health screenings for the whole family\n\n  Games\n\n  Community resources\n\n  And more!\n\n\n\nAt South Texas Health System Children's\, your child's health is our purpose. Learn more at southtexashealthsystemchildrens.com
X-ALT-DESC;FMTTYPE=text/html:Come get school-ready with South Texas Health System&reg\; Children&rsquo\;s at our fun-packed celebration that will include:<br />\n<br />\n&bull\; Free school supplies (while supplies last)<br />\n&bull\; Complimentary snacks<br />\n&bull\; Health screenings for the whole family<br />\n&bull\; Games<br />\n&bull\; Community resources<br />\n&bull\; And more!<br />\n<br />\nAt South Texas Health System Children&rsquo\;s\, your child&rsquo\;s health is our purpose. Learn more at southtexashealthsystemchildrens.com
LOCATION:
UID:e.3411.1033
SEQUENCE:3
DTSTAMP:20260422T112539Z
URL:https://members.rgvhcc.org/events/details/sths-back-to-school-block-party-1033
END:VEVENT

END:VCALENDAR
