BEGIN:VCALENDAR
VERSION:2.0
PRODID:-//ChamberMaster//Event Calendar 2.0//EN
METHOD:PUBLISH
X-PUBLISHED-TTL:P3D
REFRESH-INTERVAL:P3D
CALSCALE:GREGORIAN
BEGIN:VEVENT
DTSTART:20250913T140000Z
DTEND:20250913T150000Z
X-MICROSOFT-CDO-ALLDAYEVENT:FALSE
SUMMARY:STHS Behavioral's Chalk the Walk Event
DESCRIPTION:STHS Behavioral will be hosting it's fourth annual Chalk The Walk: Hope & Inspiration Walk next Saturday\, September 13 and we're hoping you can help us get the word out about this special event in commemoration of suicide prevention awareness month.\n\nSuicide is a serious public health problem. According to the Centers for Disease Control and Prevention\, a person commits suicide every 11 minutes in the United States\, making it a leading cause of death in this country   especially among teens and young adults.\n\nOn September 13\, South Texas Health System  Behavioral invites you to help shine a light on suicide prevention by writing messages of hope along our Chalk the Walk route. This special awareness walk and You're Not Alone fair will highlight local organizations and resources available to help with behavioral health and wellness concerns.
X-ALT-DESC;FMTTYPE=text/html:<p style="color: rgb(31\, 31\, 31)\; font-family: &quot\;Google Sans Text&quot\;\, &quot\;Google Sans&quot\;\, Helvetica\, Arial\, sans-serif\; font-size: 14px\; font-variant-ligatures: no-contextual\; background-color: rgb(233\, 238\, 246)\;"><b>STHS Behavioral</b>&nbsp\;will be hosting it&rsquo\;s fourth annual&nbsp\;<b>Chalk The Walk: Hope &amp\; Inspiration Walk</b>&nbsp\;next Saturday\, September 13 and we&rsquo\;re hoping you can help us get the word out about this special event in commemoration of suicide prevention awareness month.</p>\n\n<p style="color: rgb(31\, 31\, 31)\; font-family: &quot\;Google Sans Text&quot\;\, &quot\;Google Sans&quot\;\, Helvetica\, Arial\, sans-serif\; font-size: 14px\; font-variant-ligatures: no-contextual\; background-color: rgb(233\, 238\, 246)\;">Suicide is a serious public health problem. According to the Centers for Disease Control and Prevention\, a person commits suicide every 11 minutes in the United States\, making it a leading cause of death in this country &ndash\; especially among teens and young adults.</p>\n\n<p style="color: rgb(31\, 31\, 31)\; font-family: &quot\;Google Sans Text&quot\;\, &quot\;Google Sans&quot\;\, Helvetica\, Arial\, sans-serif\; font-size: 14px\; font-variant-ligatures: no-contextual\; background-color: rgb(233\, 238\, 246)\;">On September 13\, South Texas Health System&reg\; Behavioral invites you to help shine a light on suicide prevention by writing messages of hope along our Chalk the Walk route. This special awareness walk and You&rsquo\;re Not Alone fair will highlight local organizations and resources available to help with behavioral health and wellness concerns.</p>\n
LOCATION:
UID:e.3411.1044
SEQUENCE:3
DTSTAMP:20260422T093810Z
URL:https://members.rgvhcc.org/events/details/sths-behavioral-s-chalk-the-walk-event-1044
END:VEVENT

END:VCALENDAR
