BEGIN:VCALENDAR
VERSION:2.0
PRODID:-//ChamberMaster//Event Calendar 2.0//EN
METHOD:PUBLISH
X-PUBLISHED-TTL:P3D
REFRESH-INTERVAL:P3D
CALSCALE:GREGORIAN
BEGIN:VEVENT
DTSTART:20231215T233000Z
DTEND:20231216T023000Z
X-MICROSOFT-CDO-ALLDAYEVENT:FALSE
SUMMARY:STHS Children's Christmas Posada
DESCRIPTION:This holiday season\, bring the family together for a cup of holiday cheer at the South Texas Health System  Children's annual Christmas Posada. Throw on your comfiest fleece and flannel PJs for an evening of festivities at STHS Children's annual Christmas festival.\n\nEnjoy performances by local students\, plenty of games and activities for the kids\, a delicious cup of hot cocoa and holiday-themed displays by South Texas Health System's facilities and local community organizations. Don't forget to get your photo with Santa!
X-ALT-DESC;FMTTYPE=text/html:<div class="xdj266r x11i5rnm xat24cr x1mh8g0r x1vvkbs" style="margin: 0px\; overflow-wrap: break-word\; font-family: system-ui\, -apple-system\, &quot\;system-ui&quot\;\, &quot\;.SFNSText-Regular&quot\;\, sans-serif\; color: rgb(5\, 5\, 5)\; font-size: 15px\; background-color: rgb(255\, 255\, 255)\;">This holiday season\, bring the family together for a cup of holiday cheer at the South Texas Health System&reg\; Children&rsquo\;s annual Christmas Posada. Throw on your comfiest fleece and flannel PJs for an evening of festivities at STHS Children&rsquo\;s annual Christmas festival.</div>\n\n<div class="x11i5rnm xat24cr x1mh8g0r x1vvkbs xtlvy1s" style="margin: 0.5em 0px 0px\; overflow-wrap: break-word\; font-family: system-ui\, -apple-system\, &quot\;system-ui&quot\;\, &quot\;.SFNSText-Regular&quot\;\, sans-serif\; color: rgb(5\, 5\, 5)\; font-size: 15px\; background-color: rgb(255\, 255\, 255)\;">Enjoy performances by local students\, plenty of games and activities for the kids\, a delicious cup of hot cocoa and holiday-themed displays by South Texas Health System&rsquo\;s facilities and local community organizations. Don&rsquo\;t forget to get your photo with Santa!</div>\n
LOCATION:South Texas Health System Children's Main Parking Lot
UID:e.3411.686
SEQUENCE:3
DTSTAMP:20260424T105019Z
URL:https://members.rgvhcc.org/events/details/sths-children-s-christmas-posada-686
END:VEVENT

END:VCALENDAR
