BEGIN:VCALENDAR
VERSION:2.0
PRODID:-//ChamberMaster//Event Calendar 2.0//EN
METHOD:PUBLISH
X-PUBLISHED-TTL:P3D
REFRESH-INTERVAL:P3D
CALSCALE:GREGORIAN
BEGIN:VEVENT
DTSTART:20250403T000000Z
DTEND:20250403T040000Z
X-MICROSOFT-CDO-ALLDAYEVENT:FALSE
SUMMARY:STHS McAllen - Donate Life Candlelight Vigil
DESCRIPTION:National Donate Life Month\, which aims to raise awareness about organ donation and encourage people to register as organ donors\, is this April. To kick off commemorations at STHS facilities\, South Texas Health System will host a special candlelight vigil next week\, Wednesday\, April 2\, at 7:00 p.m.\, at STHS McAllen.
X-ALT-DESC;FMTTYPE=text/html:National Donate Life Month\, which aims to raise awareness about organ donation and encourage people to register as organ donors\, is this April. To kick off commemorations at STHS facilities\, South Texas Health System will host a special candlelight vigil next week\, Wednesday\, April 2\, at 7:00 p.m.\, at STHS McAllen.
LOCATION:South Texas Health System McAllen 301 W. Expressway 83 McAllen\, TX 78503
UID:e.3411.943
SEQUENCE:3
DTSTAMP:20260422T194751Z
URL:https://members.rgvhcc.org/events/details/sths-mcallen-donate-life-candlelight-vigil-943
END:VEVENT

END:VCALENDAR
