BEGIN:VCALENDAR
VERSION:2.0
PRODID:-//ChamberMaster//Event Calendar 2.0//EN
METHOD:PUBLISH
X-PUBLISHED-TTL:P3D
REFRESH-INTERVAL:P3D
CALSCALE:GREGORIAN
BEGIN:VEVENT
DTSTART:20250417T160000Z
DTEND:20250417T173000Z
X-MICROSOFT-CDO-ALLDAYEVENT:FALSE
SUMMARY:STHS McAllen Robotic Surgery Program Launch
DESCRIPTION:South Texas Health System McAllen\, the flagship hospital of South Texas Health System known for its comprehensive services\, has officially expanded its minimally invasive surgical capabilities. Last month\, the facility launched its robotic surgery program with the acquisition of the brand new da Vinci  5 Robotic Surgical System\, the latest in robotic assisted surgical technology\, Intuitive's most advanced and integrated robotic surgery system to date. Designed for enhanced patient outcomes\, the da Vinci 5 (DV5) is transforming surgery by improving precision and efficiency with first of its kind technology for surgeons with varying levels of experience. We invite you to join South Texas Health System McAllen leaders\, physicians and staff as we celebrate the official launch of the new robotic surgery program at the facility. Program will start promptly at 11:15 a.m. Refreshments and light food will be provided. Please RSVP to Kassandra.Rodriguez@uhsrgv.com or call (956) 388-2033.
X-ALT-DESC;FMTTYPE=text/html:South Texas Health System McAllen\, the flagship hospital of South Texas Health System known for its comprehensive services\, has officially expanded its minimally invasive surgical capabilities. Last month\, the facility launched its robotic surgery program with the acquisition of the brand new da Vinci&reg\; 5 Robotic Surgical System\, the latest in robotic assisted surgical technology\, Intuitive&rsquo\;s most advanced and integrated robotic surgery system to date. Designed for enhanced patient outcomes\, the da Vinci 5 (DV5) is transforming surgery by improving precision and efficiency with first of its kind technology for surgeons with varying levels of experience. We invite you to join South Texas Health System McAllen leaders\, physicians and staff as we celebrate the official launch of the new robotic surgery program at the facility. Program will start promptly at 11:15 a.m. Refreshments and light food will be provided. Please RSVP to Kassandra.Rodriguez@uhsrgv.com or call (956) 388-2033.
LOCATION:SOUTH TEXAS HEALTH SYSTEM MCALLEN 301 W. Expressway 83 McAllen\, TX 78503
UID:e.3411.950
SEQUENCE:3
DTSTAMP:20260422T175620Z
URL:https://members.rgvhcc.org/events/details/sths-mcallen-robotic-surgery-program-launch-950
END:VEVENT

END:VCALENDAR
