BEGIN:VCALENDAR
VERSION:2.0
PRODID:-//ChamberMaster//Event Calendar 2.0//EN
METHOD:PUBLISH
X-PUBLISHED-TTL:P3D
REFRESH-INTERVAL:P3D
CALSCALE:GREGORIAN
BEGIN:VEVENT
DTSTART:20250625T223000Z
DTEND:20250626T003000Z
X-MICROSOFT-CDO-ALLDAYEVENT:FALSE
SUMMARY:STHS Meet & Greet with the Facility's New Chief Nursing Officer
DESCRIPTION:South Texas Health System McAllen cordially invites you to a special reception to meet our new Chief Nursing Officer\, Adam Copher\, DNP\, RN\, a dynamic nursing executive with 19 years of progressive experience and accomplishments. Come say hello and learn more about his nursing plans for South Texas Health System McAllen\, STHS's largest facility. Food and beverages will be provided.
X-ALT-DESC;FMTTYPE=text/html:South Texas Health System McAllen cordially invites you to a special reception to meet our new Chief Nursing Officer\, Adam Copher\, DNP\, RN\, a dynamic nursing executive with 19 years of progressive experience and accomplishments. Come say hello and learn more about his nursing plans for South Texas Health System McAllen\, STHS&rsquo\;s largest facility. Food and beverages will be provided.
LOCATION:University Draft House Townlake McAllen 100 W. US Highway 83 McAllen\, TX 78501
UID:e.3411.988
SEQUENCE:3
DTSTAMP:20260422T144101Z
URL:https://members.rgvhcc.org/events/details/sths-meet-greet-with-the-facility-s-new-chief-nursing-officer-988
END:VEVENT

END:VCALENDAR
