BEGIN:VCALENDAR
VERSION:2.0
PRODID:-//ChamberMaster//Event Calendar 2.0//EN
METHOD:PUBLISH
X-PUBLISHED-TTL:P3D
REFRESH-INTERVAL:P3D
CALSCALE:GREGORIAN
BEGIN:VEVENT
DTSTART:20230823T140000Z
DTEND:20230824T203000Z
X-MICROSOFT-CDO-ALLDAYEVENT:FALSE
SUMMARY:STX ADOLESCENT HEALTH SUMMIT
DESCRIPTION:Calling all South Texas youth-serving organizations\, social workers\, educators\, and more! Come out on August 23-25 for the 6th Annual South Texas Adolescent Health Summit hosted by Healthy Futures of Texas.  Inspiring speakers will share info on contraception\, healthy relationships\, and more\, not to mention there'll be delicious food and swag!  YOUNG ADULTS: We have something for you too! Join us on August 25 for a FREE event open to those ages 17-24.   REGISTER:  https://hftx.org/events/summit/  WHEN & WHERE? August 23-24\, 2023\, 9:00 a.m. - 3:30 p.m.\,  McAllen Convention Center\, 700 Convention Center Blvd\, McAllen\, TX 78501 MORE INFORMATION:  Continuing Education for Professionals * Aug. 23-24 - $85: (Fee covers two days of programming\, Aug 23 virtual sessions and Aug. 24 in person sessions. Up to 6.5 hours of continuing education credits available.) * Aug. 24 - $75: (Fee covers one day of IN-PERSON programming on Aug. 24 at the McAllen Convention Center. Up to 4.5 hours of continuing education credits available.) * Aug. 23 - $35: (Fee covers half day of virtual programming\, live via Zoom. Up to two hours of continuing education credits available.) Contraceptive Training (Clinicians Only) * Aug. 24\, 4:30-6:30pm - $0: (IUD insertion training) * Aug. 24\, 4:30-6:30pm - $0 (Nexplanon insertion training) Contact for questions:  Melanie Chasteen\, Sr. Director\, Community Engagement Healthy Futures of Texas mchasteen@healthyfutures-tx.org
X-ALT-DESC;FMTTYPE=text/html:Calling all South Texas youth-serving organizations\, social workers\, educators\, and more! Come out on August 23-25 for the 6th Annual South Texas Adolescent Health Summit hosted by Healthy Futures of Texas.&nbsp\; Inspiring speakers will share info on contraception\, healthy relationships\, and more\, not to mention there&rsquo\;ll be delicious food and swag!&nbsp\; YOUNG ADULTS: We have something for you too! Join us on August 25 for a FREE event open to those ages 17-24.&nbsp\; &nbsp\;REGISTER: &nbsp\;https://hftx.org/events/summit/&nbsp\; WHEN &amp\; WHERE? August 23-24\, 2023\, 9:00 a.m. - 3:30 p.m.\,&nbsp\; McAllen Convention Center\, 700 Convention Center Blvd\, McAllen\, TX 78501 MORE INFORMATION:&nbsp\; Continuing Education for Professionals * Aug. 23-24 - $85: (Fee covers two days of programming\, Aug 23 virtual sessions and Aug. 24 in person sessions. Up to 6.5 hours of continuing education credits available.) * Aug. 24 - $75: (Fee covers one day of IN-PERSON programming on Aug. 24 at the McAllen Convention Center. Up to 4.5 hours of continuing education credits available.) * Aug. 23 - $35: (Fee covers half day of virtual programming\, live via Zoom. Up to two hours of continuing education credits available.) Contraceptive Training (Clinicians Only) * Aug. 24\, 4:30-6:30pm - $0: (IUD insertion training) * Aug. 24\, 4:30-6:30pm - $0 (Nexplanon insertion training) Contact for questions:&nbsp\; Melanie Chasteen\, Sr. Director\, Community Engagement Healthy Futures of Texas mchasteen@healthyfutures-tx.org
LOCATION:McAllen Convention Center\, 700 Convention Center Blvd\, McAllen\, TX 78501
UID:e.3411.600
SEQUENCE:3
DTSTAMP:20260424T163326Z
URL:https://members.rgvhcc.org/events/details/stx-adolescent-health-summit-600
END:VEVENT

END:VCALENDAR
