BEGIN:VCALENDAR
VERSION:2.0
PRODID:-//ChamberMaster//Event Calendar 2.0//EN
METHOD:PUBLISH
X-PUBLISHED-TTL:P3D
REFRESH-INTERVAL:P3D
CALSCALE:GREGORIAN
BEGIN:VEVENT
DTSTART;VALUE=DATE:20250827
DTEND;VALUE=DATE:20250828
TRANSP:TRANSPARENT
X-MICROSOFT-CDO-ALLDAYEVENT:TRUE
SUMMARY:STX Health Summit with Continuing Education Credits
DESCRIPTION:Join us for the 8th Annual South Texas Adolescent Health Summit! ?? Don't miss the chance to join professionals from the Rio Grande Valley to receive advanced training and technical support and access a network of experts with the latest information and best practices around adolescent development\, positive youth development\, adolescent-friendly services\, and how to apply the quality components of care through the stages of adolescence. REGISTER: https://hftx.org/annual-south-texas-summit/ WHEN & WHERE? August 27 (in-person only) August 28 (virtual only) MORE INFORMATION: Registration Fee: $75 Includes light breakfast\, lunch\, and a continuing education certificate.
X-ALT-DESC;FMTTYPE=text/html:Join us for the 8th Annual South Texas Adolescent Health Summit! ?? Don&rsquo\;t miss the chance to join professionals from the Rio Grande Valley to receive advanced training and technical support and access a network of experts with the latest information and best practices around adolescent development\, positive youth development\, adolescent-friendly services\, and how to apply the quality components of care through the stages of adolescence. REGISTER: https://hftx.org/annual-south-texas-summit/ WHEN &amp\; WHERE? August 27 (in-person only) August 28 (virtual only) MORE INFORMATION: Registration Fee: $75 Includes light breakfast\, lunch\, and a continuing education certificate.
LOCATION:MISSION EVENT CENTER 200 N Shary Rd\, Mission\, TX 78572
UID:e.3411.1026
SEQUENCE:3
DTSTAMP:20260422T112723Z
URL:https://members.rgvhcc.org/events/details/stx-health-summit-with-continuing-education-credits-1026
END:VEVENT

END:VCALENDAR
