BEGIN:VCALENDAR
VERSION:2.0
PRODID:-//ChamberMaster//Event Calendar 2.0//EN
METHOD:PUBLISH
X-PUBLISHED-TTL:P3D
REFRESH-INTERVAL:P3D
CALSCALE:GREGORIAN
BEGIN:VEVENT
DTSTART:20240319T130000Z
DTEND:20240319T153000Z
X-MICROSOFT-CDO-ALLDAYEVENT:FALSE
SUMMARY:Texas Mutual's Work Safe\, Texas Summit — McAllen
DESCRIPTION:Don't miss this FREE\, information packed morning focusing on workplace safety and how to prevent fatalities.\n\n\n\nSchedule at a Glance Networking & Breakfast | 8-8:30 a.m. Opening Remarks | 8:30-8:40 a.m. Workplace Safety and Wellness Panel With Q&A | 8:40-9:25 a.m. Moderated by Kristin Marcum\, Owner and Chief Executive Officer\, ECPR Texas Break | 9:25-9:35 a.m. OSHA Information Panel With Q&A | 9:35-10:20 a.m. Moderated by Kristin Marcum\, Owner and Chief Executive Officer\, ECPR Texas Closing Remarks | 10:20-10:30 a.m. RSVP by March 15 at texasmutual.com/mcallen
X-ALT-DESC;FMTTYPE=text/html:Don&#39\;t miss this FREE\, information packed morning focusing on workplace safety and how to prevent fatalities.<br />\n<br />\nSchedule at a Glance Networking &amp\; Breakfast | 8-8:30 a.m. Opening Remarks | 8:30-8:40 a.m. Workplace Safety and Wellness Panel With Q&amp\;A | 8:40-9:25 a.m. Moderated by Kristin Marcum\, Owner and Chief Executive Officer\, ECPR Texas Break | 9:25-9:35 a.m. OSHA Information Panel With Q&amp\;A | 9:35-10:20 a.m. Moderated by Kristin Marcum\, Owner and Chief Executive Officer\, ECPR Texas Closing Remarks | 10:20-10:30 a.m. RSVP by March 15 at texasmutual.com/mcallen
LOCATION:McAllen Convention Center Ballroom
UID:e.3411.719
SEQUENCE:3
DTSTAMP:20260424T070416Z
URL:https://members.rgvhcc.org/events/details/texas-mutual-s-work-safe-texas-summit-mcallen-719
END:VEVENT

END:VCALENDAR
