BEGIN:VCALENDAR
VERSION:2.0
PRODID:-//ChamberMaster//Event Calendar 2.0//EN
METHOD:PUBLISH
X-PUBLISHED-TTL:P3D
REFRESH-INTERVAL:P3D
CALSCALE:GREGORIAN
BEGIN:VEVENT
DTSTART:20250710T213000Z
DTEND:20250710T230000Z
X-MICROSOFT-CDO-ALLDAYEVENT:FALSE
SUMMARY:The Art Workshop - Create a La Bubu Themed Canvas
DESCRIPTION:Let your imagination run wild at The Art Workshop\, where you'll get to create your very own La Bubu-themed canvas!   Hosted by Selfies and More\, this fun\, hands-on art session is perfect for all ages and skill levels.\n\nAll materials are included\, and the cost is just $13 per person just bring your creativity!\n\nDon't miss this colorful and creative experience!\n\n\n\nSpaces are limited! For more information or to reserve your spot\, contact Denise at studio@selfiesandmore.com or call us at (956) 207-8696. Let your creativity shine!
X-ALT-DESC;FMTTYPE=text/html:<p data-end="314" data-start="82">Let your imagination run wild at <strong data-end="135" data-start="115">The Art Workshop</strong>\, where you&#39\;ll get to create your very own <strong data-end="203" data-start="178">La Bubu-themed canvas</strong>! &#127912\; Hosted by <strong data-end="238" data-start="218">Selfies and More</strong>\, this fun\, hands-on art session is perfect for all ages and skill levels.</p>\n\n<p data-end="413" data-start="316">All materials are included\, and the cost is just <strong data-end="383" data-start="365">$13 per person</strong>&mdash\;just bring your creativity!</p>\n\n<p data-end="558" data-is-last-node="" data-is-only-node="" data-start="509">Don&rsquo\;t miss this colorful and creative experience!<br />\n<br />\nSpaces are limited! For more information or to reserve your spot\, contact Denise at <a href="mailto:studio@selfiesandmore.com">studio@selfiesandmore.com</a> or call us at (956) 207-8696. Let your creativity shine!</p>\n
LOCATION:
UID:e.3411.1012
SEQUENCE:3
DTSTAMP:20260422T125020Z
URL:https://members.rgvhcc.org/events/details/the-art-workshop-create-a-la-bubu-themed-canvas-1012
END:VEVENT

END:VCALENDAR
