BEGIN:VCALENDAR
VERSION:2.0
PRODID:-//ChamberMaster//Event Calendar 2.0//EN
METHOD:PUBLISH
X-PUBLISHED-TTL:P3D
REFRESH-INTERVAL:P3D
CALSCALE:GREGORIAN
BEGIN:VEVENT
DTSTART:20250529T140000Z
DTEND:20250529T160000Z
X-MICROSOFT-CDO-ALLDAYEVENT:FALSE
SUMMARY:The Bases of Power - Dr. Ruben Flores STC Workshop
DESCRIPTION:The Bases of Power What is Machiavellianism? The naked grab for power or manipulating others to bend them to your will. Does power change people? Are there different types of power? All of these questions and more will be discussed and explored in this seminar.
X-ALT-DESC;FMTTYPE=text/html:The Bases of Power What is Machiavellianism? The naked grab for power or manipulating others to bend them to your will. Does power change people? Are there different types of power? All of these questions and more will be discussed and explored in this seminar.
LOCATION:801 Bryan Rd\, Mission\, TX 78572
UID:e.3411.975
SEQUENCE:3
DTSTAMP:20260422T162108Z
URL:https://members.rgvhcc.org/events/details/the-bases-of-power-dr-ruben-flores-stc-workshop-975
END:VEVENT

END:VCALENDAR
