BEGIN:VCALENDAR
VERSION:2.0
PRODID:-//ChamberMaster//Event Calendar 2.0//EN
METHOD:PUBLISH
X-PUBLISHED-TTL:P3D
REFRESH-INTERVAL:P3D
CALSCALE:GREGORIAN
BEGIN:VEVENT
DTSTART:20240620T163000Z
DTEND:20240620T180000Z
X-MICROSOFT-CDO-ALLDAYEVENT:FALSE
SUMMARY:The Future of the Latino Economic Impact in the U.S. & Texas
DESCRIPTION:Celebrate the future trajectory of Latino economic influence at this luncheon\, featuring esteemed speakers Ramiro Cavazos\, President/CEO of the United States Hispanic Chamber of Commerce\, and Massey Villarreal\, Chair of the Texas Association of Business. Gain valuable insights as they\, alongside Glenn Hamer\, President/CEO of the Texas Association of Business\, lead discussions on the evolving landscape of Latino economic impact in the United States and specifically in Texas. Join us for an enriching dialogue that promises to illuminate pathways to enhanced collaboration and prosperity.
X-ALT-DESC;FMTTYPE=text/html:Celebrate the future trajectory of Latino economic influence at this luncheon\, featuring esteemed speakers Ramiro Cavazos\, President/CEO of the United States Hispanic Chamber of Commerce\, and Massey Villarreal\, Chair of the Texas Association of Business. Gain valuable insights as they\, alongside Glenn Hamer\, President/CEO of the Texas Association of Business\, lead discussions on the evolving landscape of Latino economic impact in the United States and specifically in Texas. Join us for an enriching dialogue that promises to illuminate pathways to enhanced collaboration and prosperity.
LOCATION:
UID:e.3411.759
SEQUENCE:3
DTSTAMP:20260424T025221Z
URL:https://members.rgvhcc.org/events/details/the-future-of-the-latino-economic-impact-in-the-u-s-texas-759
END:VEVENT

END:VCALENDAR
