BEGIN:VCALENDAR
VERSION:2.0
PRODID:-//ChamberMaster//Event Calendar 2.0//EN
METHOD:PUBLISH
X-PUBLISHED-TTL:P3D
REFRESH-INTERVAL:P3D
CALSCALE:GREGORIAN
BEGIN:VEVENT
DTSTART:20250815T143000Z
DTEND:20250815T160000Z
X-MICROSOFT-CDO-ALLDAYEVENT:FALSE
SUMMARY:The Workforce of The RGV
DESCRIPTION:Join the Rio Grande Valley Partnership\, in collaboration with the City of McAllen\, RGV Hispanic Chamber of Commerce\, ABIC\, and Comit  de 100\, for The Workforce of the RGV a regional gathering to spotlight workforce development\, celebrate collaboration\, and drive conversations that move the RGV forward.\n\n \n\nThis event will bring together leaders\, employers\, and decision-makers from across the region to highlight strategic initiatives and opportunities shaping our workforce and economy.
X-ALT-DESC;FMTTYPE=text/html:<p style="color: rgb(54\, 54\, 54)\; font-family: Tahoma\, Geneva\, sans-serif\; font-size: 14px\; margin: 0px\;">Join the Rio Grande Valley Partnership\, in collaboration with the City of McAllen\, RGV Hispanic Chamber of Commerce\, ABIC\, and Comit&eacute\; de 100\, for The Workforce of the RGV&mdash\;a regional gathering to spotlight workforce development\, celebrate collaboration\, and drive conversations that move the RGV forward.</p>\n\n<p style="color: rgb(54\, 54\, 54)\; font-family: Tahoma\, Geneva\, sans-serif\; font-size: 14px\; margin: 0px\;">&nbsp\;</p>\n\n<p style="color: rgb(54\, 54\, 54)\; font-family: Tahoma\, Geneva\, sans-serif\; font-size: 14px\; margin: 0px\;">This event will bring together leaders\, employers\, and decision-makers from across the region to highlight strategic initiatives and opportunities shaping our workforce and economy.</p>\n
LOCATION:
UID:e.3411.1028
SEQUENCE:3
DTSTAMP:20260422T112834Z
URL:https://members.rgvhcc.org/events/details/the-workforce-of-the-rgv-1028
END:VEVENT

END:VCALENDAR
