BEGIN:VCALENDAR
VERSION:2.0
PRODID:-//ChamberMaster//Event Calendar 2.0//EN
METHOD:PUBLISH
X-PUBLISHED-TTL:P3D
REFRESH-INTERVAL:P3D
CALSCALE:GREGORIAN
BEGIN:VEVENT
DTSTART:20250418T170000Z
DTEND:20250418T180000Z
X-MICROSOFT-CDO-ALLDAYEVENT:FALSE
SUMMARY:Topics: Investing 101 - Chase Workshop
DESCRIPTION:Topics: Investing 101   Armando Ortiz - Vice --President   Private Client Advisor -Key Learnings: Come learn first steps to investing\, various ways to invest\, how to build your portfolio and maintain an investment strategy!
X-ALT-DESC;FMTTYPE=text/html:Topics: Investing 101 &ndash\; Armando Ortiz - Vice --President &ndash\; Private Client Advisor -Key Learnings: Come learn first steps to investing\, various ways to invest\, how to build your portfolio and maintain an investment strategy!
LOCATION:Boca Chica Branch 2300 Boca Chica Blvd\, Brownsville TX 78520
UID:e.3411.946
SEQUENCE:3
DTSTAMP:20260422T180016Z
URL:https://members.rgvhcc.org/events/details/topics-investing-101-chase-workshop-04-18-2025-946
END:VEVENT

END:VCALENDAR
