BEGIN:VCALENDAR
VERSION:2.0
PRODID:-//ChamberMaster//Event Calendar 2.0//EN
METHOD:PUBLISH
X-PUBLISHED-TTL:P3D
REFRESH-INTERVAL:P3D
CALSCALE:GREGORIAN
BEGIN:VEVENT
DTSTART:20250930T150000Z
DTEND:20250930T160000Z
X-MICROSOFT-CDO-ALLDAYEVENT:FALSE
SUMMARY:UHS Service Excellence Award Ceremony (STHS)
DESCRIPTION:South Texas Health System Edinburg has been recognized by its parent company\, Universal Health Services\, Inc.\, for its commitment to providing exceptional service to all customers\, including patients and visitors to the facility. \n\nSTHS Edinburg beat nearly 30 other UHS facilities to win the 2025 Service Excellence Award for "providing world-class service that's professional\, timely\, effective and efficient to all customers at all times."\n\n \n\nSTHS Edinburg invites you to join us for a special presentation ceremony featuring STHS and UHS leaders\, including UHS President & CEO Marc Miller\, which will highlight the facility's banner year of national recognition and the people who have helped us achieve them.
X-ALT-DESC;FMTTYPE=text/html:<p style="color: rgb(31\, 31\, 31)\; font-family: &quot\;Google Sans Text&quot\;\, &quot\;Google Sans&quot\;\, Helvetica\, Arial\, sans-serif\; font-size: 14px\; font-variant-ligatures: no-contextual\; background-color: rgb(233\, 238\, 246)\;"><b>South Texas Health System Edinburg</b>&nbsp\;has been recognized by its parent company\,&nbsp\;<b>Universal Health Services\, Inc.</b>\, for its commitment to providing exceptional service to all customers\, including patients and visitors to the facility.&nbsp\;</p>\n\n<p style="color: rgb(31\, 31\, 31)\; font-family: &quot\;Google Sans Text&quot\;\, &quot\;Google Sans&quot\;\, Helvetica\, Arial\, sans-serif\; font-size: 14px\; font-variant-ligatures: no-contextual\; background-color: rgb(233\, 238\, 246)\;">STHS Edinburg beat nearly 30 other UHS facilities to win the 2025 Service Excellence Award for &ldquo\;providing world-class service that&rsquo\;s professional\, timely\, effective and efficient to all customers at all times.&rdquo\;</p>\n\n<p style="color: rgb(31\, 31\, 31)\; font-family: &quot\;Google Sans Text&quot\;\, &quot\;Google Sans&quot\;\, Helvetica\, Arial\, sans-serif\; font-size: 14px\; font-variant-ligatures: no-contextual\; background-color: rgb(233\, 238\, 246)\;">&nbsp\;</p>\n\n<p style="color: rgb(31\, 31\, 31)\; font-family: &quot\;Google Sans Text&quot\;\, &quot\;Google Sans&quot\;\, Helvetica\, Arial\, sans-serif\; font-size: 14px\; font-variant-ligatures: no-contextual\; background-color: rgb(233\, 238\, 246)\;">STHS Edinburg invites you to join us for a special presentation ceremony featuring STHS and UHS leaders\, including UHS President &amp\; CEO Marc Miller\, which will highlight the facility&rsquo\;s banner year of national recognition and the people who have helped us achieve them.</p>\n
LOCATION:
UID:e.3411.1045
SEQUENCE:3
DTSTAMP:20260422T094017Z
URL:https://members.rgvhcc.org/events/details/uhs-service-excellence-award-ceremony-sths-1045
END:VEVENT

END:VCALENDAR
