BEGIN:VCALENDAR
VERSION:2.0
PRODID:-//ChamberMaster//Event Calendar 2.0//EN
METHOD:PUBLISH
X-PUBLISHED-TTL:P3D
REFRESH-INTERVAL:P3D
CALSCALE:GREGORIAN
BEGIN:VEVENT
DTSTART:20230822T160000Z
DTEND:20230822T170000Z
X-MICROSOFT-CDO-ALLDAYEVENT:FALSE
SUMMARY:Unveiling the Future of Business with ChatGPT: A Game-Changing Presentation by Elizabeth Ramirez
DESCRIPTION:Elizabeth Ramirez's unique approach to business\, rooted in authentic conversations and personal fulfillment\, has earned her a reputation as a trailblazer in the industry. Her presentation promises to equip attendees with the knowledge and inspiration needed to Leverage AI as a tool for success.\n\n\n\nKey Highlights of the Presentation:\n\n\n\n  Understanding ChatGPT: Dive into the AI landscape and explore the transformative power of ChatGPT. Gain insights into how this technology can elevate customer engagement\, decision-making\, and workflows.\n\n\n\n  Benefits of Using ChatGPT in Business: Discover how ChatGPT can enhance customer experiences\, streamline decision-making processes\, and automate routine tasks. Elizabeth will provide practical examples of its real-world applications.\n\n\n\n  Implementing ChatGPT: Best Practices and Considerations: Navigate the\n\nimplementation of ChatGPT into business operations while ensuring data privacy and maintaining ethical practices. Elizabeth will share her expertise on striking the right balance between human interaction and AI.
X-ALT-DESC;FMTTYPE=text/html:<span style="color: rgb(51\, 51\, 51)\; font-family: sans-serif\, Arial\, Verdana\, &quot\;Trebuchet MS&quot\;\; font-size: 13px\; background-color: rgb(255\, 255\, 255)\;">Elizabeth Ramirez&#39\;s unique approach to business\, rooted in authentic conversations&nbsp\;</span><span style="color: rgb(51\, 51\, 51)\; font-family: sans-serif\, Arial\, Verdana\, &quot\;Trebuchet MS&quot\;\; font-size: 13px\; background-color: rgb(255\, 255\, 255)\;">and personal fulfillment\, has earned her a reputation as a trailblazer in the industry. Her&nbsp\;</span><span style="color: rgb(51\, 51\, 51)\; font-family: sans-serif\, Arial\, Verdana\, &quot\;Trebuchet MS&quot\;\; font-size: 13px\; background-color: rgb(255\, 255\, 255)\;">presentation promises to equip attendees with the knowledge and inspiration needed to L</span><span style="color: rgb(51\, 51\, 51)\; font-family: sans-serif\, Arial\, Verdana\, &quot\;Trebuchet MS&quot\;\; font-size: 13px\; background-color: rgb(255\, 255\, 255)\;">everage AI as a tool for success.</span><br />\n<br />\nKey Highlights of the Presentation:<br />\n<br />\n&#9679\; Understanding ChatGPT: Dive into the AI landscape and explore the transformative power of ChatGPT. Gain insights into how this technology can elevate customer engagement\, decision-making\, and workflows.<br />\n<br />\n&#9679\; Benefits of Using ChatGPT in Business: Discover how ChatGPT can enhance customer experiences\, streamline decision-making processes\, and automate routine tasks. Elizabeth will provide practical examples of its real-world applications.<br />\n<br />\n&#9679\; Implementing ChatGPT: Best Practices and Considerations: Navigate the<br />\nimplementation of ChatGPT into business operations while ensuring data privacy and maintaining ethical practices. Elizabeth will share her expertise on striking the right balance between human interaction and AI.<br />\n&nbsp\;
LOCATION:RGV Hispanic Chamber of Commerce in McAllen
UID:e.3411.615
SEQUENCE:3
DTSTAMP:20260424T163636Z
URL:https://members.rgvhcc.org/events/details/unveiling-the-future-of-business-with-chatgpt-a-game-changing-presentation-by-elizabeth-ramirez-615
END:VEVENT

END:VCALENDAR
