BEGIN:VCALENDAR
VERSION:2.0
PRODID:-//ChamberMaster//Event Calendar 2.0//EN
METHOD:PUBLISH
X-PUBLISHED-TTL:P3D
REFRESH-INTERVAL:P3D
CALSCALE:GREGORIAN
BEGIN:VEVENT
DTSTART:20260310T223000Z
DTEND:20260311T000000Z
X-MICROSOFT-CDO-ALLDAYEVENT:FALSE
SUMMARY:UTRGV-CEO x Hispanic Chamber Mixer & Announcement
DESCRIPTION:You're invited to a special Evening Mixer celebrating the growing collaboration between the RGV Hispanic Chamber and the Collegiate Entrepreneurs' Organization at UTRGV. Join us as we formally announce this partnership and introduce our new Student Mentorship Program\, created to connect ambitious college entrepreneurs with experienced business leaders across the Rio Grande Valley.\n\n\n\nThis event will bring together professionals\, community partners\, and student innovators for an evening of networking\, relationship-building\, and shared vision as we invest in the next generation of Hispanic business leadership. Come be part of this exciting milestone and help us strengthen the future of entrepreneurship in our region.
X-ALT-DESC;FMTTYPE=text/html:<span style="font-size:16px\;"><span style="font-family:arial\;">You&rsquo\;re invited to a special <strong>Evening Mixer</strong> celebrating the growing collaboration between the RGV Hispanic Chamber and the <strong>Collegiate Entrepreneurs&rsquo\; Organization</strong> at UTRGV. Join us as we formally announce this partnership and introduce our new <strong>Student Mentorship Program</strong>\, created to connect ambitious college entrepreneurs with experienced business leaders across the Rio Grande Valley.<br />\n<br />\nThis event will bring together professionals\, community partners\, and student innovators for an evening of networking\, relationship-building\, and shared vision as we invest in the next generation of Hispanic business leadership. Come be part of this exciting milestone and help us strengthen the future of entrepreneurship in our region.</span></span>
LOCATION:
UID:e.3411.1130
SEQUENCE:3
DTSTAMP:20260421T233759Z
URL:https://members.rgvhcc.org/events/details/utrgv-ceo-x-hispanic-chamber-mixer-announcement-1130
END:VEVENT

END:VCALENDAR
