BEGIN:VCALENDAR
VERSION:2.0
PRODID:-//ChamberMaster//Event Calendar 2.0//EN
METHOD:PUBLISH
X-PUBLISHED-TTL:P3D
REFRESH-INTERVAL:P3D
CALSCALE:GREGORIAN
BEGIN:VEVENT
DTSTART:20251211T003000Z
DTEND:20251211T023000Z
X-MICROSOFT-CDO-ALLDAYEVENT:FALSE
SUMMARY:UTRGV Women’s Basketball vs Texas Longhorns
DESCRIPTION:Special Ticket Offer   Available at Our Office\n\n \n\nUTRGV Women's Basketball faces #4 Texas on Tuesday\, Dec. 10 at 6:30 PM at Bert Ogden Arena\, and we have a limited number of $8 discounted tickets for the community.\n\n \n\nPick up your tickets at the RGV Hispanic Chamber of Commerce:\n\n801 E Fern Ave\, Suite 131\, McAllen\, TX 78501
X-ALT-DESC;FMTTYPE=text/html:<h1 style="font-family: Tahoma\, Geneva\, sans-serif\; color: rgb(62\, 62\, 62)\; font-size: 24px\; font-weight: bold\; margin: 0px\;"><span style="font-family:arial\;"><span style="font-size:14px\;"><span style="color: rgb(43\, 43\, 43)\;">Special Ticket Offer &mdash\; Available at Our Office</span></span></span></h1>\n\n<p style="margin: 0px\; padding: 0px\; color: rgb(52\, 51\, 50)\; font-family: Arial\, Verdana\, Helvetica\, sans-serif\; font-size: 16px\;"><span style="font-family:arial\;"><span style="font-size:14px\;"><span style="color: rgb(43\, 43\, 43)\;">&#65279\;</span></span></span></p>\n\n<p style="margin: 0px\; padding: 0px\; color: rgb(52\, 51\, 50)\; font-family: Arial\, Verdana\, Helvetica\, sans-serif\; font-size: 16px\;"><span style="font-family:arial\;"><span style="font-size:14px\;"><span style="color: rgb(36\, 36\, 35)\;">UTRGV Women&rsquo\;s Basketball faces</span><span style="color: rgb(36\, 36\, 35)\;">&nbsp\;</span><a data-saferedirecturl="https://www.google.com/url?q=https://jojukynab.cc.rs6.net/tn.jsp?f%3D001NK-dUkwg-cxrYhGDUmQCTYCQL2F5h43GH16TZ3ShF6Y8kXPa9KX7yddEba92tp65uO1DoZh4salY_ZybtIot3jGijlENea850ItaFMFjykyruSs7wP69-xfSW0chYiYsQYg3RoQPtiIuyKiYlbe30eJJitGdQ1-_e_RQkDkyefLCsEfl6fJTUQ%3D%3D%26c%3Dp7gGduDUMX4m8ThldJKx2uSSxEDyyohWb9gVhPqR-dvVqzThwSXYQQ%3D%3D%26ch%3DLPMpEJG6UcjGcNMS5hJ90pC74HNC7Yupf9PWOaRjqWFnJxVnh7MsKg%3D%3D&amp\;source=gmail&amp\;ust=1765310130992000&amp\;usg=AOvVaw1PckTRopXJ07yz3SPOi2a4" href="https://jojukynab.cc.rs6.net/tn.jsp?f=001NK-dUkwg-cxrYhGDUmQCTYCQL2F5h43GH16TZ3ShF6Y8kXPa9KX7yddEba92tp65uO1DoZh4salY_ZybtIot3jGijlENea850ItaFMFjykyruSs7wP69-xfSW0chYiYsQYg3RoQPtiIuyKiYlbe30eJJitGdQ1-_e_RQkDkyefLCsEfl6fJTUQ==&amp\;c=p7gGduDUMX4m8ThldJKx2uSSxEDyyohWb9gVhPqR-dvVqzThwSXYQQ==&amp\;ch=LPMpEJG6UcjGcNMS5hJ90pC74HNC7Yupf9PWOaRjqWFnJxVnh7MsKg==" rel="noopener noreferrer" style="color: rgb(36\, 36\, 35)\; text-decoration-line: none\;" target="_blank">#4</a><span style="color: rgb(36\, 36\, 35)\;">&nbsp\;T</span><span style="color: rgb(36\, 36\, 35)\;">exas on Tuesday\, Dec. 10 at 6:30 PM at Bert Ogden Arena\, and we have a limited number of $8 discounted tickets for the community.</span></span></span></p>\n\n<p style="margin: 0px\; padding: 0px\; color: rgb(52\, 51\, 50)\; font-family: Arial\, Verdana\, Helvetica\, sans-serif\; font-size: 16px\;">&nbsp\;</p>\n\n<p style="margin: 0px\; padding: 0px\; color: rgb(52\, 51\, 50)\; font-family: Arial\, Verdana\, Helvetica\, sans-serif\; font-size: 16px\;"><span style="font-family:arial\;"><span style="font-size:14px\;"><span style="color: rgb(36\, 36\, 35)\;">Pick up your tickets at the RGV Hispanic Chamber of Commerce:</span></span></span></p>\n\n<p style="margin: 0px\; padding: 0px\; color: rgb(52\, 51\, 50)\; font-family: Arial\, Verdana\, Helvetica\, sans-serif\; font-size: 16px\;"><span style="font-family:arial\;"><span style="font-size:14px\;"><span style="color: rgb(36\, 36\, 35)\;">801 E Fern Ave\, Suite 131\, McAllen\, TX 78501</span></span></span></p>\n
LOCATION:
UID:e.3411.1100
SEQUENCE:3
DTSTAMP:20260422T064008Z
URL:https://members.rgvhcc.org/events/details/utrgv-women-s-basketball-vs-texas-longhorns-1100
END:VEVENT

END:VCALENDAR
