BEGIN:VCALENDAR
VERSION:2.0
PRODID:-//ChamberMaster//Event Calendar 2.0//EN
METHOD:PUBLISH
X-PUBLISHED-TTL:P3D
REFRESH-INTERVAL:P3D
CALSCALE:GREGORIAN
BEGIN:VEVENT
DTSTART:20251016T150000Z
DTEND:20251016T160000Z
X-MICROSOFT-CDO-ALLDAYEVENT:FALSE
SUMMARY:Virtual Workshop — LGBTBE® Certification 101
DESCRIPTION:Are you an LGBTQ+ business owner ready to unlock new opportunities for growth and visibility? Join us for this free Virtual Certification 101 Workshop and learn how to become a Certified LGBT Business Enterprise  (LGBTBE ) through the National LGBT Chamber of Commerce (NGLCC).\n\nRegister Here: https://business.salgbtchamber.com/events/details/virtual-certification-101-wokshop-how-to-become-a-certified-lgbtbe-2739?calendarMonth=2025-10-01\n\nGoogle Meet Video Call: https://meet.google.com/yki-mnfr-oza\n\nOr dial by phone: +1 530-955-0788 \n\nPIN:  997 153 731 #\n\nMore phone numbers: https://tel.meet/yki-mnfr-oza?pin=5342311293032\n\n\n\nThis session will walk you through the benefits of certification\, eligibility requirements\, and the application process. Discover how joining the national network of Certified LGBTBE  companies can connect your business with:\n\n\n	Hundreds of corporate partners committed to LGBTQ+ inclusion\n	Supplier diversity professionals seeking certified businesses\n	Exclusive contracting and procurement opportunities\n	Government partnerships and business development tools\n\n\n \n\nWhether you're curious about certification or ready to apply\, this workshop is your first step toward joining a thriving community of LGBTQ+ entrepreneurs.
X-ALT-DESC;FMTTYPE=text/html:<p style="color: rgb(31\, 31\, 31)\; font-family: &quot\;Google Sans Text&quot\;\, &quot\;Google Sans&quot\;\, Helvetica\, Arial\, sans-serif\; font-size: 14px\; font-variant-ligatures: no-contextual\; background-color: rgb(233\, 238\, 246)\;">Are you an LGBTQ+ business owner ready to unlock new opportunities for growth and visibility? Join us for this free&nbsp\;<strong>Virtual Certification 101 Workshop</strong>&nbsp\;and learn how to become a&nbsp\;<strong>Certified LGBT Business Enterprise&reg\; (LGBTBE&reg\;)</strong>&nbsp\;through the&nbsp\;<strong>National LGBT Chamber of Commerce (NGLCC)</strong>.</p>\n\n<p style="color: rgb(31\, 31\, 31)\; font-family: &quot\;Google Sans Text&quot\;\, &quot\;Google Sans&quot\;\, Helvetica\, Arial\, sans-serif\; font-size: 14px\; font-variant-ligatures: no-contextual\; background-color: rgb(233\, 238\, 246)\;"><strong>Register Here:</strong>&nbsp\;<a href="https://www.google.com/url?q=https://business.salgbtchamber.com/events/details/virtual-certification-101-wokshop-how-to-become-a-certified-lgbtbe-2739?calendarMonth%3D2025-10-01&amp\;sa=D&amp\;source=calendar&amp\;ust=1760290653570242&amp\;usg=AOvVaw1o9xgU5Gb3zbfyyjLQ9JbZ" style="color: rgb(11\, 87\, 208)\; cursor: auto\;" target="_blank"><u>https://business.salgbtchamber.com/events/details/virtual-certification-101-wokshop-how-to-become-a-certified-lgbtbe-2739?calendarMonth=2025-10-01</u></a></p>\n\n<p style="color: rgb(31\, 31\, 31)\; font-family: &quot\;Google Sans Text&quot\;\, &quot\;Google Sans&quot\;\, Helvetica\, Arial\, sans-serif\; font-size: 14px\; font-variant-ligatures: no-contextual\; background-color: rgb(233\, 238\, 246)\;"><strong data-end="431" data-start="404">Google Meet Video Call:</strong> <a class="decorated-link" data-end="468" data-start="432" href="https://meet.google.com/yki-mnfr-oza" rel="noopener" target="_new">https://meet.google.com/yki-mnfr-oza<span aria-hidden="true" class="ms-0.5 inline-block align-middle leading-none"><svg class="block h-[0.75em] w-[0.75em] stroke-current stroke-[0.75]" data-rtl-flip="" fill="currentColor" height="20" viewbox="0 0 20 20" width="20" xmlns="http://www.w3.org/2000/svg"><path d="M14.3349 13.3301V6.60645L5.47065 15.4707C5.21095 15.7304 4.78895 15.7304 4.52925 15.4707C4.26955 15.211 4.26955 14.789 4.52925 14.5293L13.3935 5.66504H6.66011C6.29284 5.66504 5.99507 5.36727 5.99507 5C5.99507 4.63273 6.29284 4.33496 6.66011 4.33496H14.9999L15.1337 4.34863C15.4369 4.41057 15.665 4.67857 15.665 5V13.3301C15.6649 13.6973 15.3672 13.9951 14.9999 13.9951C14.6327 13.9951 14.335 13.6973 14.3349 13.3301Z"></path></svg></span></a><br data-end="471" data-start="468" />\n<strong data-end="492" data-start="471">Or dial by phone:</strong> +1 530-955-0788&#8236\;<br data-end="512" data-start="509" />\n<strong data-end="520" data-start="512">PIN:</strong> &#8234\;997 153 731&#8236\;#<br data-end="538" data-start="535" />\n<strong data-end="561" data-start="538">More phone numbers:</strong> <a class="decorated-link" data-end="609" data-start="562" href="https://tel.meet/yki-mnfr-oza?pin=5342311293032" rel="noopener" target="_new">https://tel.meet/yki-mnfr-oza?pin=5342311293032</a><br />\n<br />\nThis session will walk you through the benefits of certification\, eligibility requirements\, and the application process. Discover how joining the national network of Certified LGBTBE&reg\; companies can connect your business with:</p>\n\n<ul style="color: rgb(31\, 31\, 31)\; font-family: &quot\;Google Sans Text&quot\;\, &quot\;Google Sans&quot\;\, Helvetica\, Arial\, sans-serif\; font-size: 14px\; font-variant-ligatures: no-contextual\; background-color: rgb(233\, 238\, 246)\;">\n	<li>Hundreds of corporate partners committed to LGBTQ+ inclusion</li>\n	<li>Supplier diversity professionals seeking certified businesses</li>\n	<li>Exclusive contracting and procurement opportunities</li>\n	<li>Government partnerships and business development tools</li>\n</ul>\n\n<p style="color: rgb(31\, 31\, 31)\; font-family: &quot\;Google Sans Text&quot\;\, &quot\;Google Sans&quot\;\, Helvetica\, Arial\, sans-serif\; font-size: 14px\; font-variant-ligatures: no-contextual\; background-color: rgb(233\, 238\, 246)\;">&nbsp\;</p>\n\n<p style="color: rgb(31\, 31\, 31)\; font-family: &quot\;Google Sans Text&quot\;\, &quot\;Google Sans&quot\;\, Helvetica\, Arial\, sans-serif\; font-size: 14px\; font-variant-ligatures: no-contextual\; background-color: rgb(233\, 238\, 246)\;">Whether you&rsquo\;re curious about certification or ready to apply\, this workshop is your first step toward joining a thriving community of LGBTQ+ entrepreneurs.</p>\n
LOCATION:
UID:e.3411.1062
SEQUENCE:3
DTSTAMP:20260422T075546Z
URL:https://members.rgvhcc.org/events/details/virtual-workshop-lgbtbe-certification-101-1062
END:VEVENT

END:VCALENDAR
