BEGIN:VCALENDAR
VERSION:2.0
PRODID:-//ChamberMaster//Event Calendar 2.0//EN
METHOD:PUBLISH
X-PUBLISHED-TTL:P3D
REFRESH-INTERVAL:P3D
CALSCALE:GREGORIAN
BEGIN:VEVENT
DTSTART:20251023T150000Z
DTEND:20251023T160000Z
X-MICROSOFT-CDO-ALLDAYEVENT:FALSE
SUMMARY:Virtual Workshop — Navigating your Cashflow with Chase Bank
DESCRIPTION:Join us for Navigating Your Cashflow\, a virtual workshop from Chase Bank's free educational series. Learn how to manage your cash flow effectively\, including cash flow basics\, maximizing cash in\, minimizing cash out\, and making your cash work for you.\n\nPresented by: Susie Neaville\n\nWorkshop Language: English\n\nEvent Type: Virtual   digital access information provided after registration\n\nSecure your spot and take control of your business finances: https://events.chase.com/300072191
X-ALT-DESC;FMTTYPE=text/html:<p style="color: rgb(31\, 31\, 31)\; font-family: &quot\;Google Sans Text&quot\;\, &quot\;Google Sans&quot\;\, Helvetica\, Arial\, sans-serif\; font-size: 14px\; font-variant-ligatures: no-contextual\; background-color: rgb(233\, 238\, 246)\;"><span style="font-size:14px\;"><span style="font-family:arial\;">Join us for&nbsp\;<strong>Navigating Your Cashflow</strong>\, a virtual workshop from Chase Bank&rsquo\;s free educational series. Learn how to manage your cash flow effectively\, including cash flow basics\, maximizing cash in\, minimizing cash out\, and making your cash work for you.</span></span></p>\n\n<p style="color: rgb(31\, 31\, 31)\; font-family: &quot\;Google Sans Text&quot\;\, &quot\;Google Sans&quot\;\, Helvetica\, Arial\, sans-serif\; font-size: 14px\; font-variant-ligatures: no-contextual\; background-color: rgb(233\, 238\, 246)\;"><span style="font-size:14px\;"><span style="font-family:arial\;"><strong>Presented by:</strong>&nbsp\;Susie Neaville<br />\n<strong>Workshop Language:</strong>&nbsp\;English<br />\n<strong>Event Type:</strong>&nbsp\;Virtual &ndash\; digital access information provided after registration</span></span></p>\n\n<p style="color: rgb(31\, 31\, 31)\; font-family: &quot\;Google Sans Text&quot\;\, &quot\;Google Sans&quot\;\, Helvetica\, Arial\, sans-serif\; font-size: 14px\; font-variant-ligatures: no-contextual\; background-color: rgb(233\, 238\, 246)\;"><span style="font-size:14px\;"><span style="font-family:arial\;">Secure your spot and take control of your business finances:&nbsp\;<a href="https://www.google.com/url?q=https://events.chase.com/300072191&amp\;sa=D&amp\;source=calendar&amp\;ust=1760290586951507&amp\;usg=AOvVaw1-FN2shliKKW1WvVzPM7A-" style="color: rgb(11\, 87\, 208)\; cursor: auto\;" target="_blank">https://events.chase.com/300072191</a></span></span></p>\n
LOCATION:
UID:e.3411.1063
SEQUENCE:3
DTSTAMP:20260422T080115Z
URL:https://members.rgvhcc.org/events/details/virtual-workshop-navigating-your-cashflow-with-chase-bank-1063
END:VEVENT

END:VCALENDAR
