BEGIN:VCALENDAR
VERSION:2.0
PRODID:-//ChamberMaster//Event Calendar 2.0//EN
METHOD:PUBLISH
X-PUBLISHED-TTL:P3D
REFRESH-INTERVAL:P3D
CALSCALE:GREGORIAN
BEGIN:VEVENT
DTSTART:20260324T190000Z
DTEND:20260324T200000Z
X-MICROSOFT-CDO-ALLDAYEVENT:FALSE
SUMMARY:WEBINAR — Launch & Thrive: Financial Basics for New Entrepreneurs
DESCRIPTION:A practical session designed to help new entrepreneurs take control of their business operations and financial decision making.\n\n\n\nParticipants will learn how to build a strong operational foundation while understanding the financial components that drive sustainability and growth.\n\n\n\nAttendees will learn:\n\n\n	Why separating personal and business finances is critical\n	Key responsibilities every business owner must manage\n	How record keeping supports business growth\n	The main financial components that drive business health\n	How to use revenue\, costs\, pricing\, and expenses to manage finances effectively\n\n\n\n\n\n\n\n\n*Presented by the UTRGV SBDC in partnership with the Gloria Fitch Endowment and with promotional support from participating resource partners\, including the Alton Economic Development Corporation\; Brownsville Chamber of Commerce\; Consulate of Mexico in McAllen\; Donna Economic Development Corporation\; Economic Development Corporation of Weslaco\; Edinburg Chamber of Commerce\; Elsa Economic Development Corporation\; Greater Alton Chamber of Commerce\; Greater Pharr Chamber of Commerce\; Greater Mission Chamber of Commerce\; Harlingen Economic Development Corporation\; Hidalgo Economic Development Corporation\; Palmview Chamber of Commerce\; Palmview Municipal Development District\; Rio Grande City Economic Development Corporation\; Rio Grande City Greater Chamber of Commerce\; Rio Grande City Public Library\; Rio Grande Valley Hispanic Chamber of Commerce\; San Benito Chamber of Commerce\; San Juan Economic Development Corporation\; South Padre Island Chamber of Commerce\; Starr County Industrial Foundation\; and Weslaco Area Chamber of Commerce & Visitors Center.
X-ALT-DESC;FMTTYPE=text/html:<div style="color: rgb(35\, 35\, 51)\; font-family: &quot\;Helvetica Neue&quot\;\, Helvetica\, Arial\, sans-serif\; font-size: 14px\; white-space-collapse: preserve\;"><span style="font-size:14px\;"><span style="font-family:arial\;">A practical session designed to help new entrepreneurs take control of their business operations and financial decision&#8209\;making.<br />\n<br />\nParticipants will learn how to build a strong operational foundation while understanding the financial components that drive sustainability and growth.<br />\n<br />\nAttendees will learn:</span></span></div>\n\n<ul>\n	<li style="color: rgb(35\, 35\, 51)\; font-family: &quot\;Helvetica Neue&quot\;\, Helvetica\, Arial\, sans-serif\; font-size: 14px\; white-space-collapse: preserve\;"><span style="font-size:14px\;"><span style="font-family:arial\;">Why separating personal and business finances is critical</span></span></li>\n	<li style="color: rgb(35\, 35\, 51)\; font-family: &quot\;Helvetica Neue&quot\;\, Helvetica\, Arial\, sans-serif\; font-size: 14px\; white-space-collapse: preserve\;"><span style="font-size:14px\;"><span style="font-family:arial\;">Key responsibilities every business owner must manage</span></span></li>\n	<li style="color: rgb(35\, 35\, 51)\; font-family: &quot\;Helvetica Neue&quot\;\, Helvetica\, Arial\, sans-serif\; font-size: 14px\; white-space-collapse: preserve\;"><span style="font-size:14px\;"><span style="font-family:arial\;">How record keeping supports business growth</span></span></li>\n	<li style="color: rgb(35\, 35\, 51)\; font-family: &quot\;Helvetica Neue&quot\;\, Helvetica\, Arial\, sans-serif\; font-size: 14px\; white-space-collapse: preserve\;"><span style="font-size:14px\;"><span style="font-family:arial\;">The main financial components that drive business health</span></span></li>\n	<li style="color: rgb(35\, 35\, 51)\; font-family: &quot\;Helvetica Neue&quot\;\, Helvetica\, Arial\, sans-serif\; font-size: 14px\; white-space-collapse: preserve\;"><span style="font-size:14px\;"><span style="font-family:arial\;"><span style="color: rgb(35\, 35\, 51)\; white-space-collapse: preserve\;">How to use revenue\, costs\, pricing\, and expenses to manage finances effectively</span></span></span></li>\n</ul>\n\n<div style="color: rgb(35\, 35\, 51)\; font-family: &quot\;Helvetica Neue&quot\;\, Helvetica\, Arial\, sans-serif\; font-size: 14px\; white-space-collapse: preserve\;">\n<div class="register-form-info mgt-lg" data-v-61c9b45a="" style="box-sizing: border-box\; padding: 0px\; margin-right: 0px\; margin-bottom: 0px\; margin-left: 0px\; color: rgb(35\, 35\, 51)\; font-family: &quot\;Helvetica Neue&quot\;\, Helvetica\, Arial\, sans-serif\; font-size: 14px\; margin-top: 24px !important\;">\n<div class="content mgt-xl pdb-xl pdt-lg" data-v-61c9b45a="" style="box-sizing: border-box\; padding-top: 24px !important\; padding-right: 0px\; padding-bottom: 32px !important\; padding-left: 0px\; margin-top: 32px !important\; margin-right: 0px\; margin-bottom: 0px\; margin-left: 0px\; border-top: 1px solid rgb(237\, 237\, 244)\;">\n<div data-v-61c9b45a="" style="box-sizing: border-box\; padding: 0px\; margin: 0px\;">\n<div class="info" data-v-61c9b45a="" style="box-sizing: border-box\; padding: 0px 16px 0px 0px\; margin: 0px\; width: 688px\;">\n<div class="zoom-row mgb-md" data-v-61c9b45a="" style="box-sizing: border-box\; padding: 0px\; margin-top: 0px\; margin-right: 0px\; margin-bottom: 16px !important\; margin-left: 0px\; position: relative\; display: flex\; flex-wrap: wrap\;">\n<div class="zoom-col zoom-col-9 pdl-xs w-sp" data-v-61c9b45a="" style="box-sizing: border-box\; padding-top: 0px\; padding-right: 0px\; padding-bottom: 0px\; margin: 0px\; white-space-collapse: preserve\; line-height: 24px\; float: left\; flex: 0 0 75%\; max-width: 75%\; padding-left: 4px !important\;"><span style="font-size:14px\;"><span style="font-family:arial\;">*Presented by the UTRGV SBDC in partnership with the Gloria Fitch Endowment and with promotional support from participating resource partners\, including the Alton Economic Development Corporation\; Brownsville Chamber of Commerce\; Consulate of Mexico in McAllen\; Donna Economic Development Corporation\; Economic Development Corporation of Weslaco\; Edinburg Chamber of Commerce\; Elsa Economic Development Corporation\; Greater Alton Chamber of Commerce\; Greater Pharr Chamber of Commerce\; Greater Mission Chamber of Commerce\; Harlingen Economic Development Corporation\; Hidalgo Economic Development Corporation\; Palmview Chamber of Commerce\; Palmview Municipal Development District\; Rio Grande City Economic Development Corporation\; Rio Grande City Greater Chamber of Commerce\; Rio Grande City Public Library\; Rio Grande Valley Hispanic Chamber of Commerce\; San Benito Chamber of Commerce\; San Juan Economic Development Corporation\; South Padre Island Chamber of Commerce\; Starr County Industrial Foundation\; and Weslaco Area Chamber of Commerce &amp\; Visitors Center.</span></span></div>\n</div>\n</div>\n</div>\n</div>\n</div>\n</div>\n
LOCATION:
UID:e.3411.1145
SEQUENCE:3
DTSTAMP:20260421T233450Z
URL:https://members.rgvhcc.org/events/details/webinar-launch-thrive-financial-basics-for-new-entrepreneurs-1145
END:VEVENT

END:VCALENDAR
