BEGIN:VCALENDAR
VERSION:2.0
PRODID:-//ChamberMaster//Event Calendar 2.0//EN
METHOD:PUBLISH
X-PUBLISHED-TTL:P3D
REFRESH-INTERVAL:P3D
CALSCALE:GREGORIAN
BEGIN:VEVENT
DTSTART:20260312T190000Z
DTEND:20260312T200000Z
X-MICROSOFT-CDO-ALLDAYEVENT:FALSE
SUMMARY:WEBINAR — SBDC Smart Start
DESCRIPTION:Do you have a business idea? Are you eager to launch your own venture?\n\n\n\nJoin this webinar to gain essential information and steps for a successful start! Additionally\, it will prepare you for your one-on-one business advising session\, ensuring you have ongoing support.\n\n\n\n*Presented by the UTRGV SBDC with promotional support from participating resource partners\, including the Alton Economic Development Corporation\; Brownsville Chamber of Commerce\; Consulate of Mexico in McAllen\; Economic Development Corporation of Weslaco\; Edinburg Chamber of Commerce\; Elsa Economic Development Corporation\; Greater Alton Chamber of Commerce\; Greater Pharr Chamber of Commerce\; Greater Mission Chamber of Commerce\; Harlingen Economic Development Corporation\; Hidalgo Economic Development Corporation\; Palmview Chamber of Commerce\; Rio Grande City Economic Development Corporation\; Rio Grande City Greater Chamber of Commerce\; Rio Grande City Public Library\; Rio Grande Valley Hispanic Chamber of Commerce\; San Benito Chamber of Commerce\; South Padre Island Chamber of Commerce\; Starr County Industrial Foundation\; and Weslaco Area Chamber of Commerce & Visitors Center.\n\n\n\nSign Up: Webinar Registration - Zoom
X-ALT-DESC;FMTTYPE=text/html:<span style="font-family:arial\;"><span style="color: rgb(35\, 35\, 51)\; font-size: 14px\; white-space-collapse: preserve\;">Do you have a business idea? Are you eager to launch your own venture?<br />\n<br />\nJoin this webinar to gain essential information and steps for a successful start! Additionally\, it will prepare you for your one-on-one business advising session\, ensuring you have ongoing support.<br />\n<br />\n*Presented by the UTRGV SBDC with promotional support from participating resource partners\, including the Alton Economic Development Corporation\; Brownsville Chamber of Commerce\; Consulate of Mexico in McAllen\; Economic Development Corporation of Weslaco\; Edinburg Chamber of Commerce\; Elsa Economic Development Corporation\; Greater Alton Chamber of Commerce\; Greater Pharr Chamber of Commerce\; Greater Mission Chamber of Commerce\; Harlingen Economic Development Corporation\; Hidalgo Economic Development Corporation\; Palmview Chamber of Commerce\; Rio Grande City Economic Development Corporation\; Rio Grande City Greater Chamber of Commerce\; Rio Grande City Public Library\; Rio Grande Valley Hispanic Chamber of Commerce\; San Benito Chamber of Commerce\; South Padre Island Chamber of Commerce\; Starr County Industrial Foundation\; and Weslaco Area Chamber of Commerce &amp\; Visitors Center.<br />\n<br />\nSign Up: </span><a href="https://utrgv.zoom.us/webinar/register/5017719608641/WN_gGvYUM5wQAyVflxtHopKrg#/registration">Webinar Registration - Zoom</a></span>
LOCATION:
UID:e.3411.1143
SEQUENCE:3
DTSTAMP:20260421T233156Z
URL:https://members.rgvhcc.org/events/details/webinar-sbdc-smart-start-1143
END:VEVENT

END:VCALENDAR
