BEGIN:VCALENDAR
VERSION:2.0
PRODID:-//ChamberMaster//Event Calendar 2.0//EN
METHOD:PUBLISH
X-PUBLISHED-TTL:P3D
REFRESH-INTERVAL:P3D
CALSCALE:GREGORIAN
BEGIN:VEVENT
DTSTART:20260326T190000Z
DTEND:20260326T200000Z
X-MICROSOFT-CDO-ALLDAYEVENT:FALSE
SUMMARY:WEBINAR — Success Factors: 11 Key Elements That Strengthen & Sustain Small Businesses
DESCRIPTION:What truly drives long term business success? This session breaks down the core factors that help small businesses not only launch effectively but also grow with confidence and resilience.\n\n\n\nParticipants will explore practical strategies and essential skill sets that support sustainable operations\, strong teams\, sound financial decisions\, and future focused planning. Ideal for new entrepreneurs\, established business owners\, or anyone seeking to strengthen their business foundation.\n\n\n\nTopics include:\n\n\n	Identifying and integrating the 11 essential success factors that support small business longevity\n	Building a clear strategic roadmap for every stage of business growth   Developing and empowering a strong\, high performing team\n	Using financial insights and key statements to guide smart decision making\n	 Positioning your business for future opportunities\, expansion\, and adaptation\n\n\n\n\n\n\n\n*Presented by the UTRGV SBDC with promotional support from participating resource partners\, including the Alton Economic Development Corporation\; Brownsville Chamber of Commerce\; Consulate of Mexico in McAllen\; Donna Economic Development Corporation\; Economic Development Corporation of Weslaco\; Edinburg Chamber of Commerce\; Elsa Economic Development Corporation\; Greater Alton Chamber of Commerce\; Greater Pharr Chamber of Commerce\; Greater Mission Chamber of Commerce\; Harlingen Economic Development Corporation\; Hidalgo Economic Development Corporation\; Palmview Chamber of Commerce\; Palmview Municipal Development District\; Rio Grande City Economic Development Corporation\; Rio Grande City Greater Chamber of Commerce\; Rio Grande City Public Library\; Rio Grande Valley Hispanic Chamber of Commerce\; San Benito Chamber of Commerce\; San Juan Economic Development Corporation\; South Padre Island Chamber of Commerce\; Starr County Industrial Foundation\; and Weslaco Area Chamber of Commerce & Visitors Center.
X-ALT-DESC;FMTTYPE=text/html:<div style="color: rgb(35\, 35\, 51)\; font-family: &quot\;Helvetica Neue&quot\;\, Helvetica\, Arial\, sans-serif\; font-size: 14px\; white-space-collapse: preserve\;"><span style="font-size:14px\;"><span style="font-family:arial\;">What truly drives long&#8209\;term business success? This session breaks down the core factors that help small businesses not only launch effectively but also grow with confidence and resilience.<br />\n<br />\nParticipants will explore practical strategies and essential skill sets that support sustainable operations\, strong teams\, sound financial decisions\, and future&#8209\;focused planning. Ideal for new entrepreneurs\, established business owners\, or anyone seeking to strengthen their business foundation.<br />\n<br />\nTopics include:</span></span></div>\n\n<ul>\n	<li style="color: rgb(35\, 35\, 51)\; font-family: &quot\;Helvetica Neue&quot\;\, Helvetica\, Arial\, sans-serif\; font-size: 14px\; white-space-collapse: preserve\;"><span style="font-size:14px\;"><span style="font-family:arial\;">Identifying and integrating the 11 essential success factors that support small&#8209\;business longevity</span></span></li>\n	<li style="color: rgb(35\, 35\, 51)\; font-family: &quot\;Helvetica Neue&quot\;\, Helvetica\, Arial\, sans-serif\; font-size: 14px\; white-space-collapse: preserve\;"><span style="font-size:14px\;"><span style="font-family:arial\;">Building a clear strategic roadmap for every stage of business growth &bull\; Developing and empowering a strong\, high&#8209\;performing team</span></span></li>\n	<li style="color: rgb(35\, 35\, 51)\; font-family: &quot\;Helvetica Neue&quot\;\, Helvetica\, Arial\, sans-serif\; font-size: 14px\; white-space-collapse: preserve\;"><span style="font-size:14px\;"><span style="font-family:arial\;">Using financial insights and key statements to guide smart decision&#8209\;making</span></span></li>\n	<li><span style="font-size:14px\;"><span style="font-family:arial\;"><span style="color: rgb(35\, 35\, 51)\; white-space-collapse: preserve\;">&#8203\;Positioning your business for future opportunities\, expansion\, and adaptation</span></span></span></li>\n</ul>\n\n<div class="register-form-info mgt-lg" data-v-61c9b45a="" style="box-sizing: border-box\; padding: 0px\; margin-right: 0px\; margin-bottom: 0px\; margin-left: 0px\; color: rgb(35\, 35\, 51)\; font-family: &quot\;Helvetica Neue&quot\;\, Helvetica\, Arial\, sans-serif\; font-size: 14px\; margin-top: 24px !important\;">\n<div class="content mgt-xl pdb-xl pdt-lg" data-v-61c9b45a="" style="box-sizing: border-box\; padding-top: 24px !important\; padding-right: 0px\; padding-bottom: 32px !important\; padding-left: 0px\; margin-top: 32px !important\; margin-right: 0px\; margin-bottom: 0px\; margin-left: 0px\; border-top: 1px solid rgb(237\, 237\, 244)\;">\n<div data-v-61c9b45a="" style="box-sizing: border-box\; padding: 0px\; margin: 0px\;">\n<div class="info" data-v-61c9b45a="" style="box-sizing: border-box\; padding: 0px 16px 0px 0px\; margin: 0px\; width: 688px\;">\n<div class="zoom-row mgb-md" data-v-61c9b45a="" style="box-sizing: border-box\; padding: 0px\; margin-top: 0px\; margin-right: 0px\; margin-bottom: 16px !important\; margin-left: 0px\; position: relative\; display: flex\; flex-wrap: wrap\;">\n<div class="zoom-col zoom-col-9 pdl-xs w-sp" data-v-61c9b45a="" style="box-sizing: border-box\; padding-top: 0px\; padding-right: 0px\; padding-bottom: 0px\; margin: 0px\; white-space-collapse: preserve\; line-height: 24px\; float: left\; flex: 0 0 75%\; max-width: 75%\; padding-left: 4px !important\;"><span style="font-size:14px\;"><span style="font-family:arial\;">*Presented by the UTRGV SBDC with promotional support from participating resource partners\, including the Alton Economic Development Corporation\; Brownsville Chamber of Commerce\; Consulate of Mexico in McAllen\; Donna Economic Development Corporation\; Economic Development Corporation of Weslaco\; Edinburg Chamber of Commerce\; Elsa Economic Development Corporation\; Greater Alton Chamber of Commerce\; Greater Pharr Chamber of Commerce\; Greater Mission Chamber of Commerce\; Harlingen Economic Development Corporation\; Hidalgo Economic Development Corporation\; Palmview Chamber of Commerce\; Palmview Municipal Development District\; Rio Grande City Economic Development Corporation\; Rio Grande City Greater Chamber of Commerce\; Rio Grande City Public Library\; Rio Grande Valley Hispanic Chamber of Commerce\; San Benito Chamber of Commerce\; San Juan Economic Development Corporation\; South Padre Island Chamber of Commerce\; Starr County Industrial Foundation\; and Weslaco Area Chamber of Commerce &amp\; Visitors Center.</span></span></div>\n</div>\n</div>\n</div>\n</div>\n</div>\n
LOCATION:
UID:e.3411.1146
SEQUENCE:3
DTSTAMP:20260421T233816Z
URL:https://members.rgvhcc.org/events/details/webinar-success-factors-11-key-elements-that-strengthen-sustain-small-businesses-1146
END:VEVENT

END:VCALENDAR
