BEGIN:VCALENDAR
VERSION:2.0
PRODID:-//ChamberMaster//Event Calendar 2.0//EN
METHOD:PUBLISH
X-PUBLISHED-TTL:P3D
REFRESH-INTERVAL:P3D
CALSCALE:GREGORIAN
BEGIN:VEVENT
DTSTART:20230822T150000Z
DTEND:20230822T170000Z
X-MICROSOFT-CDO-ALLDAYEVENT:FALSE
SUMMARY:What's Behind the Numbers?
DESCRIPTION:Are you managing your business finances effectively?\n\nLearn how to improve your bottom line by understanding the financial statements! Information on the financial position of a business supports decision-making. These numbers also indicate a business' current and past performance\, and a business owner can use them to determine how move the business forward.\n\nSession highlights:\n\n-Learn about the Financial Statements.\n\n-Understand how to manage the financial operations of a business using these documents.\n\n-Use the financial statements for business growth strategies.\n\n*This in-person session is presented by the UTRGV SBDC in partnership with the Gloria Fitch Endowment and co-hosted by the Rio Grande City Economic Development Corporation\, Rio Grande City Greater Chamber of Commerce\, RGV Hispanic Chamber of Commerce\, Rio Grande City Public Library\, and Starr County Industrial Foundation.\n\nRegister at link above. Deadline applies.
X-ALT-DESC;FMTTYPE=text/html:<div class="x11i5rnm xat24cr x1mh8g0r x1vvkbs xtlvy1s" style="margin: 0.5em 0px 0px\; overflow-wrap: break-word\; font-family: system-ui\, -apple-system\, &quot\;system-ui&quot\;\, &quot\;.SFNSText-Regular&quot\;\, sans-serif\; color: rgb(5\, 5\, 5)\; font-size: 15px\; background-color: rgb(255\, 255\, 255)\;">Are you managing your business finances effectively?</div>\n\n<div class="x11i5rnm xat24cr x1mh8g0r x1vvkbs xtlvy1s" style="margin: 0.5em 0px 0px\; overflow-wrap: break-word\; font-family: system-ui\, -apple-system\, &quot\;system-ui&quot\;\, &quot\;.SFNSText-Regular&quot\;\, sans-serif\; color: rgb(5\, 5\, 5)\; font-size: 15px\; background-color: rgb(255\, 255\, 255)\;">Learn how to improve your bottom line by understanding the financial statements! Information on the financial position of a business supports decision-making. These numbers also indicate a business&rsquo\; current and past performance\, and a business owner can use them to determine how move the business forward.</div>\n\n<div class="x11i5rnm xat24cr x1mh8g0r x1vvkbs xtlvy1s" style="margin: 0.5em 0px 0px\; overflow-wrap: break-word\; font-family: system-ui\, -apple-system\, &quot\;system-ui&quot\;\, &quot\;.SFNSText-Regular&quot\;\, sans-serif\; color: rgb(5\, 5\, 5)\; font-size: 15px\; background-color: rgb(255\, 255\, 255)\;">Session highlights:<br />\n-Learn about the Financial Statements.<br />\n-Understand how to manage the financial operations of a business using these documents.<br />\n-Use the financial statements for business growth strategies.</div>\n\n<div class="x11i5rnm xat24cr x1mh8g0r x1vvkbs xtlvy1s" style="margin: 0.5em 0px 0px\; overflow-wrap: break-word\; font-family: system-ui\, -apple-system\, &quot\;system-ui&quot\;\, &quot\;.SFNSText-Regular&quot\;\, sans-serif\; color: rgb(5\, 5\, 5)\; font-size: 15px\; background-color: rgb(255\, 255\, 255)\;">*This in-person session is presented by the UTRGV SBDC in partnership with the Gloria Fitch Endowment and co-hosted by the Rio Grande City Economic Development Corporation\, Rio Grande City Greater Chamber of Commerce\, RGV Hispanic Chamber of Commerce\, Rio Grande City Public Library\, and Starr County Industrial Foundation.</div>\n\n<div class="x11i5rnm xat24cr x1mh8g0r x1vvkbs xtlvy1s" style="margin: 0.5em 0px 0px\; overflow-wrap: break-word\; font-family: system-ui\, -apple-system\, &quot\;system-ui&quot\;\, &quot\;.SFNSText-Regular&quot\;\, sans-serif\; color: rgb(5\, 5\, 5)\; font-size: 15px\; background-color: rgb(255\, 255\, 255)\;">Register at link above. Deadline applies.</div>\n
LOCATION:
UID:e.3411.611
SEQUENCE:3
DTSTAMP:20260424T163301Z
URL:https://members.rgvhcc.org/events/details/what-s-behind-the-numbers-611
END:VEVENT

END:VCALENDAR
