BEGIN:VCALENDAR
VERSION:2.0
PRODID:-//ChamberMaster//Event Calendar 2.0//EN
METHOD:PUBLISH
X-PUBLISHED-TTL:P3D
REFRESH-INTERVAL:P3D
CALSCALE:GREGORIAN
BEGIN:VEVENT
DTSTART:20250719T000000Z
DTEND:20250719T010000Z
X-MICROSOFT-CDO-ALLDAYEVENT:FALSE
SUMMARY:Womenpreneur Networking
DESCRIPTION:Join us for an inspiring event designed to bring women entrepreneurs together in a supportive space that celebrates collaboration over competition. Meet like-minded professionals\, exchange ideas\, and build lasting connections.\n\nPlus\, don't miss a mini training on Linktree   a powerful tool to enhance your online presence. And stay tuned for even more helpful resources and topics coming soon!\n\nReserve your spot today! For more information or to RSVP\, contact Denise at studio@selfiesandmore.com or call (956) 207-8696.
X-ALT-DESC;FMTTYPE=text/html:<p data-end="461" data-start="235">Join us for an inspiring event designed to bring women entrepreneurs together in a supportive space that celebrates collaboration over competition. Meet like-minded professionals\, exchange ideas\, and build lasting connections.</p>\n\n<p data-end="629" data-start="463">Plus\, don&rsquo\;t miss a mini training on Linktree &mdash\; a powerful tool to enhance your online presence. And stay tuned for even more helpful resources and topics coming soon!</p>\n\n<p data-end="766" data-start="631">Reserve your spot today! For more information or to RSVP\, contact Denise at <strong data-end="738" data-start="709"><a class="cursor-pointer" data-end="736" data-start="711" rel="noopener">studio@selfiesandmore.com</a></strong> or call <strong data-end="765" data-start="747">(956) 207-8696</strong>.</p>\n
LOCATION:
UID:e.3411.1018
SEQUENCE:3
DTSTAMP:20260422T125020Z
URL:https://members.rgvhcc.org/events/details/womenpreneur-networking-1018
END:VEVENT

END:VCALENDAR
