BEGIN:VCALENDAR
VERSION:2.0
PRODID:-//ChamberMaster//Event Calendar 2.0//EN
METHOD:PUBLISH
X-PUBLISHED-TTL:P3D
REFRESH-INTERVAL:P3D
CALSCALE:GREGORIAN
BEGIN:VEVENT
DTSTART:20260311T160000Z
DTEND:20260311T170000Z
X-MICROSOFT-CDO-ALLDAYEVENT:FALSE
SUMMARY:WORKSHOP - A.I. in Finance: Data\, Automation\, and FP&A
DESCRIPTION:Business owners\, CFOs\, finance leaders\, and executives are invited to an insightful session on how Artificial Intelligence is transforming financial decision-making. This workshop will provide a practical look at applying AI across the finance process   from data preparation and accounting automation to financial planning and analysis   helping organizations improve efficiency\, transparency\, and strategic performance.\n\n\n\nLed by Marco Villarreal\, Fractional CFO with The CFO Centre\, this session will break down real-world tools\, automation strategies\, and AI-driven models that empower finance teams to operate with greater accuracy\, control\, and foresight. Whether your company is fully integrated or still evolving its systems\, you'll gain actionable insights to strengthen your financial function.\n\n\n\n  Coffee and sweets will be provided.
X-ALT-DESC;FMTTYPE=text/html:<span style="font-size:16px\;"><span style="font-family:arial\;">Business owners\, CFOs\, finance leaders\, and executives are invited to an insightful session on how Artificial Intelligence is transforming financial decision-making. This workshop will provide a practical look at applying AI across the finance process &mdash\; from data preparation and accounting automation to financial planning and analysis &mdash\; helping organizations improve efficiency\, transparency\, and strategic performance.<br />\n<br />\nLed by Marco Villarreal\, Fractional CFO with The CFO Centre\, this session will break down real-world tools\, automation strategies\, and AI-driven models that empower finance teams to operate with greater accuracy\, control\, and foresight. Whether your company is fully integrated or still evolving its systems\, you&rsquo\;ll gain actionable insights to strengthen your financial function.<br />\n<br />\n&#9749\; Coffee and sweets will be provided. &#9749\;</span></span>
LOCATION:
UID:e.3411.1131
SEQUENCE:3
DTSTAMP:20260422T012242Z
URL:https://members.rgvhcc.org/events/details/workshop-a-i-in-finance-data-automation-and-fp-a-1131
END:VEVENT

END:VCALENDAR
