BEGIN:VCALENDAR
VERSION:2.0
PRODID:-//ChamberMaster//Event Calendar 2.0//EN
METHOD:PUBLISH
X-PUBLISHED-TTL:P3D
REFRESH-INTERVAL:P3D
CALSCALE:GREGORIAN
BEGIN:VEVENT
DTSTART:20260430T143000Z
DTEND:20260430T170000Z
X-MICROSOFT-CDO-ALLDAYEVENT:FALSE
SUMMARY:WORKSHOP: Deeper & Broader – AI-Powered Financial Decisions
DESCRIPTION:This workshop will provide a practical look at applying AI across the finance process from data preparation and accounting automation to financial planning and analysis.\n\n\n\n  What you'll learn:\n\n  How AI is transforming the role of finance leaders and business managers in real time\n\n  How to structure effective collaboration with AI while maintaining control over financial decisions\n\n  Live walkthrough of an AI-generated financial analysis from start to finish\n\n  The discipline behind AI-assisted analysis and why it is often overlooked\n\n  One structured methodology with immediate\, practical application (no coding required)\n\n\n\n  Coffee and sweets will be provided.
X-ALT-DESC;FMTTYPE=text/html:This workshop will provide a practical look at applying AI across the finance process from data preparation and accounting automation to financial planning and analysis.<br />\n<br />\n&#128161\; What you&rsquo\;ll learn:<br />\n&bull\; How AI is transforming the role of finance leaders and business managers in real time<br />\n&bull\; How to structure effective collaboration with AI while maintaining control over financial decisions<br />\n&bull\; Live walkthrough of an AI-generated financial analysis from start to finish<br />\n&bull\; The discipline behind AI-assisted analysis and why it is often overlooked<br />\n&bull\; One structured methodology with immediate\, practical application (no coding required)<br />\n<br />\n&#9749\; Coffee and sweets will be provided. &#9749\;
LOCATION:801 E Fern Ave\, Suite 131 Large Conference Room
UID:e.3411.1172
SEQUENCE:3
DTSTAMP:20260419T140821Z
URL:https://members.rgvhcc.org/events/details/workshop-a-i-in-finance-data-automation-and-fp-a-1172
END:VEVENT

END:VCALENDAR
